BEGIN:VCALENDAR
VERSION:2.0
PRODID:Events Booking
BEGIN:VEVENT
UID:69e9c2cad11e5
SUMMARY:Βραδιά Επιτραπέζιων Παιχνιδιών
DESCRIPTION:
 Κάθε Τρίτη\, ραντεβού στις 20.00 στo 
 Comixadiko με αγαπημένα μας επιτραπέζια παιχ
 νίδια!!
 
 
 Ψάχνεις παρέα για επιτραπέζι
 α παιχνίδια\;
 Έχει κάποιο επιτραπέζιο π
 ου δεν καταφέρνει να βγει στο τραπέζι\;
 
 
 
 Έλα στο Comixadiko\, κάθε Τρίτη από τις 20.00 μ
 ε ή χωρίς παρέα\, για αγαπημένα\, γνωστά κ
 αι άγνωστα επιτραπέζια\, αλλά και rpg παιχ
 νίδια!
 
LOCATION:Γεωργίου Ξέπαππα 15\, Νέα Χώρα\, Chania\, Mu
 nicipality of Chania\, Chania Regional Unit\, Region of Crete\, 731 30\, G
 reece
DTSTART:20240730T170000Z
DTEND:20240730T205500Z
DTSTAMP:20240107T143308Z
ORGANIZER;CN=Chaniartoon - International Comic & Animation Festival:MAILTO:
 info@chaniartoonfest.gr
GEO:35.51057;24.012889
X-APPLE-STRUCTURED-LOCATION;VALUE=URI;X-ADDRESS=Γεωργίου Ξέπαπ
 πα 15\, Νέα Χώρα\, Chania\, Municipality of Chania\, Chania Regio
 nal Unit\, Region of Crete\, 731 30\, Greece;X-APPLE-RADIUS=72;X-TITLE=Com
 ixadiko:35.51057;24.012889
END:VEVENT
END:VCALENDAR