BEGIN:VCALENDAR
VERSION:2.0
PRODID:Events Booking
BEGIN:VEVENT
UID:69e9810e97785
SUMMARY:Αφήγηση Παραμυθιών
DESCRIPTION:Αναζητώντας το γιατί οι άνθρωποι λ
 ένε και ακούνε παραμύθια τρομαχτικά\,&nbsp\
 ; ιστορίες αγριότητας και βίας η κόκκινη 
 κλωστή μας οδηγεί στις απαρχές του πολιτ
 ισμού. Τότε που τα παραμύθια διασκέδαζαν
 \, δίδασκαν και πρόσφεραν παραμυθία (παρη
 γοριά) σε μικρούς και μεγάλους.&nbsp\; Ο φόβ
 ος&nbsp\; είναι βασικό ανθρώπινο συναίσθημ
 α που το συναντάμε σε όλες τις κοινωνίες 
 και αντανακλάται με διάφορες μορφές τρό
 μου μέσα στους τοπικούς\, λαϊκούς μύθους\
 , τις παραδόσεις\, τις αφηγήσεις\, τα παρα
 μύθια. Η ανικανοποίητη περιέργεια\, η υπα
 ρξιακή αγωνία και το άγχος για το άγνωστ
 ο&nbsp\; δίνει χώρο στα τρομακτικά παραμύθι
 α και τις ιστορίες τρόμου. Δίνει ευκαιρί
 ες στον άνθρωπο να εξερευνήσει και να βι
 ώσει το φόβο σε συνθήκες ασφάλειας. Αφηγ
 ήτριες: Λιλή Λαμπρέλη\, Δήμητρα Βαλαβάνη\
 ,&nbsp\; Αγγελική Μπεμπλιδάκη\, Νίκος Μπλαζά
 κης\, Στέλλα Ροζάκη και Δέσποινα Τζιάκη
LOCATION:The Miracle’s Garden\, 1\, Ρούσου Βουρδουμπά\, S
 plantzia\, Chania\, Municipality of Chania\, Chania Regional Unit\, Region
  of Crete\, 731 32\, Greece
DTSTART:20240921T170000Z
DTEND:20240921T190000Z
DTSTAMP:20240829T135216Z
ORGANIZER;CN=Chaniartoon - International Comic & Animation Festival:MAILTO:
 info@chaniartoonfest.gr
GEO:35.516605;24.022207
X-APPLE-STRUCTURED-LOCATION;VALUE=URI;X-ADDRESS=The Miracle’s Garden\, 1\
 , Ρούσου Βουρδουμπά\, Splantzia\, Chania\, Municipality of
  Chania\, Chania Regional Unit\, Region of Crete\, 731 32\, Greece;X-APPLE
 -RADIUS=72;X-TITLE=Υδραγωγείο - Σπλάντζια:35.516605;24.
 022207
END:VEVENT
END:VCALENDAR