BEGIN:VCALENDAR
VERSION:2.0
PRODID:Events Booking
BEGIN:VEVENT
UID:69e9828d95243
SUMMARY:Παρουσίαση του κόμικ «Ανάμεσα μας»\, 
 μια ανθολογία τρόμου από τις εκδόσεις «Ch
 aniartoon Press» 
DESCRIPTION:Ο δάσκαλος Μανόλης Χατζηπαναγιώτο
 υ παρουσιάζει την πρώτη έκδοση της «Chaniart
 oon Press» το κόμικ «Ανάμεσά μας»\, μια συλλο
 γική ανθολογία τρόμου\, με 11 πρωτότυπες ι
 στορίες. Στην παρουσίαση θα συμμετέχουν 
 και οι δημιουργοί του κόμικ: Σπύρος Δερβ
 ενιώτης\, Πάνος Ζάχαρης\, Έφη Θεοδωροπούλ
 ου\, Νίκος Καμπασελέ\, Σταύρος Κιουτσιούκ
 η\, Μανώλης Λαγουβάρδος\, Τάσος Μαραγκός\,
  Αλέξια Οθωναίου\, Θανάσης Πετρόπουλος\, 
 Γιάννης Ρουμπούλιας\, Νίκος Σταυριανός.

  Από τον λόφο του χωριού κοντά στο Κάστρο
 \, από το σπίτι με τα κλειστά πατζούρια στ
 ο κέντρο της πόλης\, από το διαμέρισμα το
 υ επάνω ορόφου\, το δάσος και το νεκροταφ
 είο\, από τα βουνά της Κορινθίας και το ασ
 φαλές σου σπίτι\, από έναν κόσμο που δεν υ
 πάρχει καταφθάνει ο τρόμος και σφηνώνει 
 με δόντια κοφτερά ανάμεσά μας...
 Μια ανθ
 ολογία τρόμου\, ένα κόμικ αφιερωμένο στο
 ν Μέγα Τρόμο που βρίσκεται «ανάμεσά μας»
  (όπως ο ομώνυμος τίτλος) και χαμηλόφωνα 
 ψιθυρίζει στο αυτί μας πως βρίσκεται πάλ
 ι εδώ. (από το οπισθόφυλλο του βιβλίου)
LOCATION:Karnagio\, 8\, Πλατεία Γεωργίου Κατεχάκη\, 
 Kastelli\, Chania\, Municipality of Chania\, Chania Regional Unit\, Region
  of Crete\, 731 32\, Greece
DTSTART:20240928T160000Z
DTEND:20240928T170000Z
DTSTAMP:20240902T031601Z
ORGANIZER;CN=Chaniartoon - International Comic & Animation Festival:MAILTO:
 info@chaniartoonfest.gr
GEO:35.518247;24.02048
X-APPLE-STRUCTURED-LOCATION;VALUE=URI;X-ADDRESS=Karnagio\, 8\, Πλατεί
 α Γεωργίου Κατεχάκη\, Kastelli\, Chania\, Municipality of
  Chania\, Chania Regional Unit\, Region of Crete\, 731 32\, Greece;X-APPLE
 -RADIUS=72;X-TITLE=Θέατρο Μίκης Θεοδωράκης:35.518247;
 24.02048
END:VEVENT
END:VCALENDAR