BEGIN:VCALENDAR
VERSION:2.0
PRODID:Events Booking
BEGIN:VEVENT
UID:69eb4627903e2
SUMMARY:Artist alley
DESCRIPTION:Περισσότεροι από 70 καλλιτέχνες θα 
 παρεβρεθούν στην Πλατεία Κατεχάκη με τα 
 έργα τους. Με την συμμετοχή των: Δημήτρης
  Αβραμόπουλος\, Δήμητρα Αδαμοπούλου\, Γιά
 ννη Αντωνόπουλος\, Αντώνης Βαβαγιαννης\, 
 Ιάκωβος Βάης\, Θωμάς Βαλιανάτος\, Σοφία Γ
 εωργιάδη\, Άννα-Καρολίνα Γιάνσεν\, Σταύρο
 ς Δάμος\, Διονύσης Διγόνης\, Μάρκος Ευλογ
 ημένος\, Πάνος Ζάχαρης\, Σεραφειμ Ζησης\, 
 Κωσταντίνος Ζυγούρης\, Έφη Θεοδωροπούλο
 υ\, Νίκος Καζαντζάκης\, Μαρία Καιρίδου\, Μ
 αίρη Καλαμπαλίκα\, Νίκος Καμπασελέ\, Ζωή 
 Νικολέττα Καραδημητρίου\, Σουλτάνα Ιλωρ
 ίδου\, Θανάσης Καραμπάλιος\, Κωνσταντίνο
 ς Κάτσος\, Απόστολος Κεντρόπουλος\, Κλήμη
 ς Κεραμιτσόπουλος\, Έλλη Κικίδη\, Σταύρος
  Κιουτσιούκης\, Βαγγέλης Κολότσιος\, Περι
 κλής Κουλιφέτης\, Ονίτα Κουτσουμπάνη\, Γι
 άννης Κυρίτσης\, Μάνος Λαγουβάρδος\, Γεωρ
 γία Λελεδάκη\, Παναγιώτης Λιάκος\, Μανόλη
 ς Μακρογιαννάκης\, Τάσος Μαραγκός\, Βαγγέ
 λης Ματζίρης\, Ανέστης Μαυρομμάτης Παρασ
 ίδης\, Μαρία Μπιντζηλαίου\, Ιάσωνας Μπολι
 εράκης\, Νίκος Μπράτος\, Δήμητρα Νικολαΐδ
 η\, Όλια Ντακογιάννη\, Φίλιππος Ντεγίδης\,
  Γαβριήλ Νύκταρης\, Αλέξια Οθωναίου\, Δαν
 ιήλ Παπαλάμπρος\, Μαρλένα Παραλαβάντζα\, 
 Βασίλης Πατσουράκης\, Θανάσης Πετρόπουλ
 ος\, Παύλος Πιτούλιας\, Τζοάννα Πουπάκη\, 
 Κωνσταντίνος Ρουγγέρης\, Ιωάννης Ρουμπο
 ύλιας\, Κατερίνα Σαραντίνου\, Ειρήνη Σκού
 ρα\, Αδριανός Σταγγίδης\, Νίκος Σταυριανο
 ς\, Νικόλας Στεφαδούρος\, Νάσια Σωτηροπού
 λου\, Φώτης Τσελεπατιώτης\, Κόννυ Τσιχλογ
 ιάννη\, Κάθυ Τσουρλάκη\, Κώστας Φανταουσά
 κης\, Ιωσήφ Φαντέλ\, Χρύσα Χαρτσά\, Jimmy-Chris A
 garai\, Ralitsa Aleksieva\, Michèle Ballinger\, Silvia Bessero\, Kalli Do
 lcetti\, LoudmouseCrew\, Rebecca Pelayo Επίσης συμμετέχου
 ν οι εκδοτικοί Jemma Press\, Μικρός Ήρως\, η Λέσ
 χη Φίλων Κόμικς\, καθώς και το μαγαζί Comixad
 iko.
 Κατά την διάρκεια του Arist Alley\, θα υπογ
 ράφουν τα βιβλία τους οι Shintaro Kago\, Massimo de Vi
 ta\, Soloup.
LOCATION:Karnagio\, 8\, Πλατεία Γεωργίου Κατεχάκη\, 
 Kastelli\, Chania\, Municipality of Chania\, Chania Regional Unit\, Region
  of Crete\, 731 32\, Greece
DTSTART:20240927T080000Z
DTEND:20240929T203000Z
DTSTAMP:20240829T141730Z
ORGANIZER;CN=Chaniartoon - International Comic & Animation Festival:MAILTO:
 info@chaniartoonfest.gr
GEO:35.518273;24.020196
X-APPLE-STRUCTURED-LOCATION;VALUE=URI;X-ADDRESS=Karnagio\, 8\, Πλατεί
 α Γεωργίου Κατεχάκη\, Kastelli\, Chania\, Municipality of
  Chania\, Chania Regional Unit\, Region of Crete\, 731 32\, Greece;X-APPLE
 -RADIUS=72;X-TITLE=Πλατεία Κατεχάκη:35.518273;24.020196
END:VEVENT
END:VCALENDAR