BEGIN:VCALENDAR
VERSION:2.0
PRODID:Events Booking
BEGIN:VEVENT
UID:69e8f754bfa55
SUMMARY:Chaniartoon Comic Library
DESCRIPTION:Η Chaniartoon Comic Library ανοίγει τις πόρτες
  της στους λάτρεις του κόμικ όλων των ηλι
 κιών. Ελάτε να πιείτε τον καφέ ή το τσάι σ
 ας και να διαβάσετε το αγαπημένο σας κόμ
 ικ από τη βιβλιοθήκη μας.
DTSTART:20230324T090000Z
DTEND:20230324T150000Z
DTSTAMP:20230208T104139Z
ORGANIZER;CN=Chaniartoon - International Comic & Animation Festival:MAILTO:
 info@chaniartoonfest.gr
END:VEVENT
END:VCALENDAR