BEGIN:VCALENDAR
VERSION:2.0
PRODID:Events Booking
BEGIN:VEVENT
UID:69e7e64c0e4a1
SUMMARY:Εργαστήριο Κόμικς  με τον Νικόλα Στε
 φαδούρο   
DESCRIPTION:Εργαστήριο Κόμικς με τον Νικόλα Στ
 εφαδούρο
  
 Powered by Vakalo Art &amp\; Design College
 Φα
 νταστείτε! Ένα εργαστήριο κόμικς στα Χαν
 ιά\, όπου θα αποκαλύψουμε τις μυστικέςσυ
 νταγές για να φτιάξετε το δικό σας απίθα
 νο κόμικς! Ελάτε να μάθουμε μαζί πώς να μ
 ετατρέψετε τις ιστορίες σας σε ξεκαρδισ
 τικές\, συναρπαστικές και γεμάτες δράσησ
 ελίδες. Προσοχή\, οι γνώσεις που θα αποκτ
 ήσετε είναι τόσο ισχυρές\, που ίσωςδημιο
 υργήσετε τον επόμενο Σούπερ Ήρωα (ή Σούπ
 ερ Κακό) της πόλης!
  
 Όλα τα εργαστήρια 
 είναι με δωρεάν συμμετοχή\, με την εθελον
 τική προσφορά γραφικής ύλης η οποία θα δ
 οθεί για τη στήριξη των αναγκών του Συλλ
 όγου «Ορίζοντας».
DTSTART:20250928T080000Z
DTEND:20250928T090000Z
DTSTAMP:20250908T162537Z
ORGANIZER;CN=Chaniartoon - International Comic & Animation Festival:MAILTO:
 info@chaniartoonfest.gr
END:VEVENT
END:VCALENDAR