BEGIN:VCALENDAR
VERSION:2.0
PRODID:Events Booking
BEGIN:VEVENT
UID:69e7e4b0a5489
SUMMARY:Δημιουργική Αυθεντικότητα Ξεχώρισε 
 από τους άλλους...  ακόμα και από την τεχν
 ητή νοημοσύνη. με τον Νίκο Γαλυφιανάκη
DESCRIPTION:Δημιουργική ΑυθεντικότηταΞεχώρισ
 ε από τους άλλους... ακόμα και από την τεχ
 νητή νοημοσύνη.με τον Νίκο Γαλυφιανάκη
 
 
 O σπουδαίος δημιουργός με διεθνή καριέ
 ρα στην Αμερική σε ένα εργαστήριο για τη
 ν τέχνη\, τη δημιουργία αλλά και τον τρόπ
 ο σκέψης που οδηγεί στην έμπνευση και τη 
 φαντασία.
  
  
  
 Όλα τα εργαστήρια είν
 αι με δωρεάν συμμετοχή\, με την εθελοντικ
 ή προσφορά γραφικής ύλης η οποία θα δοθε
 ί για τη στήριξη των αναγκών του Συλλόγο
 υ «Ορίζοντας».
LOCATION:Karnagio\, 8\, Πλατεία Γεωργίου Κατεχάκη\, 
 Kastelli\, Chania\, Municipality of Chania\, Chania Regional Unit\, Region
  of Crete\, 731 32\, Greece
DTSTART:20250925T150000Z
DTEND:20250925T160000Z
DTSTAMP:20250908T145630Z
ORGANIZER;CN=Chaniartoon - International Comic & Animation Festival:MAILTO:
 info@chaniartoonfest.gr
GEO:35.518247;24.02048
X-APPLE-STRUCTURED-LOCATION;VALUE=URI;X-ADDRESS=Karnagio\, 8\, Πλατεί
 α Γεωργίου Κατεχάκη\, Kastelli\, Chania\, Municipality of
  Chania\, Chania Regional Unit\, Region of Crete\, 731 32\, Greece;X-APPLE
 -RADIUS=72;X-TITLE=Θέατρο Μίκης Θεοδωράκης:35.518247;
 24.02048
END:VEVENT
END:VCALENDAR