BEGIN:VCALENDAR
VERSION:2.0
PRODID:Events Booking
BEGIN:VEVENT
UID:69ec954e612a9
SUMMARY:Ψηφιακός Χρωματισμός στα comic: Φίλιππ
 ος Ντεγίδης
DESCRIPTION:Εξερευνήστε τις βασικές τεχνικές 
 του ψηφιακού χρωματισμού για κόμικς με τ
 ον Degphilip\, τον colorist της \"Γοργόνας\". Μάθετε
  αποτελεσματικές τεχνικές σκίασης και φ
 ωτισμού για να δώσετε βάθος και επαγγελμ
 ατική εμφάνιση στο έργο σας. Ανακαλύψτε 
 πώς να εφαρμόζετε εφέ και υφές για να ενι
 σχύσετε το ενδιαφέρον των κόμικ σας.
LOCATION:Karnagio\, 8\, Πλατεία Γεωργίου Κατεχάκη\, 
 Kastelli\, Chania\, Municipality of Chania\, Chania Regional Unit\, Region
  of Crete\, 731 32\, Greece
DTSTART:20240929T110000Z
DTEND:20240929T120000Z
DTSTAMP:20240829T124744Z
ORGANIZER;CN=Chaniartoon - International Comic & Animation Festival:MAILTO:
 info@chaniartoonfest.gr
GEO:35.518247;24.02048
X-APPLE-STRUCTURED-LOCATION;VALUE=URI;X-ADDRESS=Karnagio\, 8\, Πλατεί
 α Γεωργίου Κατεχάκη\, Kastelli\, Chania\, Municipality of
  Chania\, Chania Regional Unit\, Region of Crete\, 731 32\, Greece;X-APPLE
 -RADIUS=72;X-TITLE=Θέατρο Μίκης Θεοδωράκης:35.518247;
 24.02048
END:VEVENT
END:VCALENDAR