BEGIN:VCALENDAR
VERSION:2.0
PRODID:Events Booking
BEGIN:VEVENT
UID:69e7e64c09db3
SUMMARY:Ζωγραφίζοντας για δικαιοσύνη
DESCRIPTION:Συμμετέχετε στη δράση \"Ζωγραφίζον
 τας για Δικαιοσύνη\": δημιουργούμε εικόν
 ες αλληλεγγύης για να αντισταθούμε συλλ
 ογικά στην ποινικοποίηση των μεταναστών
  και των προσφύγων στην Ελλάδα.
 Αυτή τη 
 στιγμή\, πάνω από 2.200 άνθρωποι βρίσκονται
  φυλακισμένοι στην Ελλάδα\, κατηγορούμεν
 οι για λαθρεμπόρους και δικάζονται σε εξ
 πρές δίκες\, χωρίς κατάλληλους διερμηνεί
 ς ή νομική υπεράσπιση. Μεταξύ αυτών\, περ
 ισσότεροι από 90 νέοι Σουδανοί βρίσκοντα
 ι στις φυλακές της Κρήτης. Ας μιλήσουμε 
 για το τι συμβαίνει και ας δημιουργήσουμ
 ε μαζί αφίσες\, πίνακες ζωγραφικής\, κόμι
 κς και άλλα\, για να κάνουμε την κατάστασ
 η ορατή.
 Από μέλη του Mataris και του 50outofmany:
 Παρουσίαση από τον Mustafa&amp\; δημιουργικό μ
 έρος από τη Louise
 Το 50outofmany είναι μια ομάδ
 α αλληλεγγύης που υποστηρίζει Σουδανούς
  κρατούμενους που κατηγορούνται άδικα γ
 ια λαθρεμπόριο. Μέρος των δράσεών μας εί
 ναι η διοργάνωση εκδηλώσεων ευαισθητοπο
 ίησης και η δημιουργία δικτύωσης με άλλο
 υς αλληλέγγυους\, η παρακολούθηση των δι
 κών\, η συγκέντρωση χρημάτων για την υποσ
 τήριξη των αναγκών των ανθρώπων που βρίσ
 κονται στη φυλακή και μετά την αποφυλάκι
 σή τους. Διατηρώντας επαφή και σπάζοντας
  την απομόνωση\, γράφοντας επιστολές στα 
 αγόρια στη φυλακή.
  
 
 Όλα τα εργαστήρι
 α είναι με δωρεάν συμμετοχή\, με την εθελ
 οντική προσφορά γραφικής ύλης η οποία θα
  δοθεί για τη στήριξη των αναγκών του Συλ
 λόγου «Ορίζοντας».
  
  
LOCATION:Karnagio\, 8\, Πλατεία Γεωργίου Κατεχάκη\, 
 Kastelli\, Chania\, Municipality of Chania\, Chania Regional Unit\, Region
  of Crete\, 731 32\, Greece
DTSTART:20250923T150000Z
DTEND:20250923T160000Z
DTSTAMP:20250908T144922Z
ORGANIZER;CN=Chaniartoon - International Comic & Animation Festival:MAILTO:
 info@chaniartoonfest.gr
GEO:35.518247;24.02048
X-APPLE-STRUCTURED-LOCATION;VALUE=URI;X-ADDRESS=Karnagio\, 8\, Πλατεί
 α Γεωργίου Κατεχάκη\, Kastelli\, Chania\, Municipality of
  Chania\, Chania Regional Unit\, Region of Crete\, 731 32\, Greece;X-APPLE
 -RADIUS=72;X-TITLE=Θέατρο Μίκης Θεοδωράκης:35.518247;
 24.02048
END:VEVENT
END:VCALENDAR