BEGIN:VCALENDAR
VERSION:2.0
PRODID:Events Booking
BEGIN:VEVENT
UID:69e96b38cb9b3
SUMMARY:Πάρτι Λήξης του 8ου Chaniartoon
DESCRIPTION:Αποχαιρετούμε το 8ο Chaniartoon με μουσι
 κή\, μπύρα Χάρμα και κομικοπαρέα στο μπαλ
 κονάκι του ΚΑΜ (Κέντρο Αρχιτεκτονικής Με
 σογείου) και στα σκαλάκια του Αγίου Μάρκ
 ου.
DTSTART:20240929T203000Z
DTSTAMP:20240902T033405Z
ORGANIZER;CN=Chaniartoon - International Comic & Animation Festival:MAILTO:
 info@chaniartoonfest.gr
END:VEVENT
END:VCALENDAR