BEGIN:VCALENDAR
VERSION:2.0
PRODID:Events Booking
BEGIN:VEVENT
UID:69e96d951ec36
SUMMARY:Κάνε το φόβο σου σαΐτα και πετά τον μ
 ακρυά! : Δήμητρα Βαλαβάνη\, Δέσποινα Τζιά
 κη
DESCRIPTION:Φοβάσαι\; Φτιάξε μια ασπίδα από βιβ
 λία\, ένα σπαθί από παραμύθια\, κάνε το φό
 βο σου σαΐτα και πέτα τον μακρυά! Τί είνα
 ι ο φόβος\; Ο φόβος είναι ένα συναίσθημα τ
 ου ανθρώπου που προκαλείται από τη συνει
 δητοποίηση ενός πραγματικού ή πλασματικ
 ού κινδύνου ή απειλής. Είναι ένας μηχανι
 σμός που μας προστατεύει\, είναι μια φυσι
 ολογική αντίδραση του οργανισμού χωρίς 
 να απαιτείται σκέψη. Πώς όμως μπορούμε ν
 α βοηθήσουμε τα παιδιά να εκφράσουν και 
 να αντιμετωπίσουν τους φόβους τους\; Τα β
 ιβλία και τα παραμύθια είναι μια όμορφη 
 λύση. Μέσα από αυτά τα παιδιά βρίσκουν έν
 α αποκούμπι\, ενώ παράλληλα τα βοηθάνε να
  κρατάνε ανοιχτό το δίαυλο επικοινωνίας\
 , κάνοντάς τα να νιώθουν ασφάλεια να μοιρ
 αστούν μαζί μας τα συναισθήματά τους και
  τις αγωνίες τους. Πώς ακριβώς μπορεί να 
 γίνει αυτό\; Οι παιδαγωγοί Δήμητρα Βαλαβ
 άνη και Δέσποινα Τζιάκη\, μέλη της ομάδας
  διάδοσης και αφήγησης παραμυθιών Παραμ
 υθάδες εν Πλω\, συντονίζουν ένα εργαστήρ
 ι για γονείς και προτείνουν ιδέες για το 
 πως μπορούμε να διαχειριστούμε τους φόβ
 ους των παιδιών. Το εργαστήρι θα πραγματ
 οποιηθεί στο βιβλιοπωλείο Σποράκι.
 *H συ
 μμετοχή στο εργαστήριο είναι δωρεάν. Αντ
 ί αμοιβής\, μπορείτε να δωρίζετε γραφική 
 ύλη (μολύβια\, γόμες\, ξύστρες\, ξυλομπογι
 ές\, μπλοκ ζωγραφικής κλπ.)\, τα οποία θα γ
 ίνουν δωρεά για τα παιδιά του συλλόγου \"
 Ορίζοντας\".
LOCATION:Μπονιαλη Κτιστακη 11\, Chania\, Municipality of Ch
 ania\, Chania Regional Unit\, Region of Crete\, 731 34\, Greece
DTSTART:20240923T160000Z
DTEND:20240923T180000Z
DTSTAMP:20240829T075416Z
ORGANIZER;CN=Chaniartoon - International Comic & Animation Festival:MAILTO:
 info@chaniartoonfest.gr
GEO:35.511754;24.021896
X-APPLE-STRUCTURED-LOCATION;VALUE=URI;X-ADDRESS=Μπονιαλη Κτιστ
 ακη 11\, Chania\, Municipality of Chania\, Chania Regional Unit\, Regio
 n of Crete\, 731 34\, Greece;X-APPLE-RADIUS=72;X-TITLE=Βιβλιοπωλ
 είο \"Το Σποράκι\":35.511754;24.021896
END:VEVENT
END:VCALENDAR