BEGIN:VCALENDAR
VERSION:2.0
PRODID:Events Booking
BEGIN:VEVENT
UID:69e7e67199187
SUMMARY:Από τη λογοτεχνία στο graphic novel.  Η περί
 πτωση του «Μάγκα» της Πηνελόπης Δέλτα\, μ
 ε τον Κωνσταντίνο Σκλαβενίτη
DESCRIPTION:Από τη λογοτεχνία στο graphic novel.
 Η π
 ερίπτωση του «Μάγκα» της Πηνελόπης Δέλτ
 α\, με τον Κωνσταντίνο ΣκλαβενίτηΜε κοιν
 ά οχήματα τη φαντασία\, τον λόγο και τις ε
 ικόνες\, η σχέση λογοτεχνίας και κόμικς α
 ποδεικνύεται αμφίδρομη και συμπληρωματ
 ική. Όλο και συχνότερα\, αγαπημένοι λογοτ
 εχνικοί ήρωες μεταφέρονται στα καρέ των 
 κόμικς αποκτώντας καινούργια μορφή με σ
 κοπό να τέρψουν το αναγνωστικό κοινό. Πώ
 ς έγινε graphic novel «Ο μάγκας» της Π. Δέλτα\; Έ
 να διαδραστικό εργαστήριο για να ανακαλ
 ύψετε τα μυστικά τις δημιουργίας και να 
 δώσετε ζωή στον αγαπημένο λογοτεχνικό ή
 ρωα.
 
LOCATION:Karnagio\, 8\, Πλατεία Γεωργίου Κατεχάκη\, 
 Kastelli\, Chania\, Municipality of Chania\, Chania Regional Unit\, Region
  of Crete\, 731 32\, Greece
DTSTART:20250928T090000Z
DTEND:20250928T100000Z
DTSTAMP:20250908T162847Z
ORGANIZER;CN=Chaniartoon - International Comic & Animation Festival:MAILTO:
 info@chaniartoonfest.gr
GEO:35.518247;24.02048
X-APPLE-STRUCTURED-LOCATION;VALUE=URI;X-ADDRESS=Karnagio\, 8\, Πλατεί
 α Γεωργίου Κατεχάκη\, Kastelli\, Chania\, Municipality of
  Chania\, Chania Regional Unit\, Region of Crete\, 731 32\, Greece;X-APPLE
 -RADIUS=72;X-TITLE=Θέατρο Μίκης Θεοδωράκης:35.518247;
 24.02048
END:VEVENT
END:VCALENDAR