BEGIN:VCALENDAR
VERSION:2.0
PRODID:Events Booking
BEGIN:VEVENT
UID:69eb403addc8e
SUMMARY:Μεταγλώττιση σε Horror Video Game: Δημήτρης 
 Σάρλος
DESCRIPTION:Η μεταγλώττιση στα βιντεοπαιχνίδι
 α γίνεται όλο και πιο διαδεδομένη. Ελάτε 
 μαζί μας να δώσουμε Ελληνική φωνή σε επι
 λεγμένο απόσπασμα από διάσημο horror Video Game.
 
 *H συμμετοχή στο εργαστήριο είναι δωρεά
 ν. Αντί αμοιβής\, μπορείτε να δωρίζετε γρ
 αφική ύλη (μολύβια\, γόμες\, ξύστρες\, ξυλο
 μπογιές\, μπλοκ ζωγραφικής κλπ.)\, τα οποί
 α θα γίνουν δωρεά για τα παιδιά του συλλό
 γου \"Ορίζοντας\".
DTSTART:20240926T130000Z
DTEND:20240926T150000Z
DTSTAMP:20240829T081125Z
ORGANIZER;CN=Chaniartoon - International Comic & Animation Festival:MAILTO:
 info@chaniartoonfest.gr
END:VEVENT
END:VCALENDAR