BEGIN:VCALENDAR
VERSION:2.0
PRODID:Events Booking
BEGIN:VEVENT
UID:69e96db489fcd
SUMMARY:Όταν η ιστορία γίνεται κόμικ και το κ
 όμικ αφήγηση: Χάρης Παπαεμμανουήλ\, Βάνι
 α Σταμπολάκη
DESCRIPTION:Τι νόημα έχουν οι εικόνες σε μια ισ
 τορία\; Πώς ακούγονται οι ήχοι ενός κόμικ
 \; Τι σχέση μπορεί να έχει το θέατρο\, το κ
 όμικ και η αφήγηση\; Σε αυτό το εργαστήρι
 ο θα παίξουμε\, θα δοκιμάσουμε\, θα συζητή
 σουμε\, θα ακούσουμε\, θα ζωγραφίσουμε κα
 ι θα αφηγηθούμε! Θα ζωντανέψουμε ιστορίε
 ς και θα ταξιδέψουμε με τη φαντασία μας! 
 Κι όλα αυτά\, παρέα με τα κόμικ!!! Εισηγητέ
 ς: Χάρης Παπαεμμανουήλ\, Βάνια Σταμπολάκ
 η
 *H συμμετοχή στο εργαστήριο είναι δωρε
 άν. Αντί αμοιβής\, μπορείτε να δωρίζετε γ
 ραφική ύλη (μολύβια\, γόμες\, ξύστρες\, ξυλ
 ομπογιές\, μπλοκ ζωγραφικής κλπ.)\, τα οπο
 ία θα γίνουν δωρεά για τα παιδιά του συλλ
 όγου \"Ορίζοντας\".
LOCATION:Karnagio\, 8\, Πλατεία Γεωργίου Κατεχάκη\, 
 Kastelli\, Chania\, Municipality of Chania\, Chania Regional Unit\, Region
  of Crete\, 731 32\, Greece
DTSTART:20240922T083000Z
DTEND:20240922T100000Z
DTSTAMP:20240829T072436Z
ORGANIZER;CN=Chaniartoon - International Comic & Animation Festival:MAILTO:
 info@chaniartoonfest.gr
GEO:35.518247;24.02048
X-APPLE-STRUCTURED-LOCATION;VALUE=URI;X-ADDRESS=Karnagio\, 8\, Πλατεί
 α Γεωργίου Κατεχάκη\, Kastelli\, Chania\, Municipality of
  Chania\, Chania Regional Unit\, Region of Crete\, 731 32\, Greece;X-APPLE
 -RADIUS=72;X-TITLE=Θέατρο Μίκης Θεοδωράκης:35.518247;
 24.02048
END:VEVENT
END:VCALENDAR