BEGIN:VCALENDAR
VERSION:2.0
PRODID:Events Booking
BEGIN:VEVENT
UID:69e959d99b0df
SUMMARY:Η χρήση του κομικ ως μέσο ανάπτυξης κ
 οινωνικών και γνωστικών δεξιοτήτων σε π
 αιδιά προσχολικής και σχολικής ηλικίας. 
 Μια παρουσίαση για γονείς και εκπαιδευτ
 ικούς: Νάσια Σωτηροπούλου
DESCRIPTION:Πώς βοηθά το κόμικ στην γνωστική κ
 αι κοινωνική ανάπτυξη του παιδιού. Πώς μ
 πορεί να την εφαρμόσει ο καθε εκπαιδευτι
 κος/γονέας\, \"έχει δεν έχει\"&nbsp\; εξοικείω
 ση με την τεχνολογία ή τη ζωγραφική Τεχν
 ική χρήσης του κομικ για παιδιά που φοιτ
 ούν σε Ειδικο και Γενικό&nbsp\; δημοτικό σχ
 ολείο. Προσαρμογή στην Ειδική Εκπαίδευσ
 η: τρόποι εφαρμογής της τεχνικής σε μαθη
 τές με μειωμένη όραση\,&nbsp\; σε μαθητές με 
 κινητικές δυσκολίες\, σε μαθητές χωρις π
 ροφορικό ή/και γραπτό λογο.
LOCATION:Karnagio\, 8\, Πλατεία Γεωργίου Κατεχάκη\, 
 Kastelli\, Chania\, Municipality of Chania\, Chania Regional Unit\, Region
  of Crete\, 731 32\, Greece
DTSTART:20240922T160000Z
DTEND:20240922T170000Z
DTSTAMP:20240829T130529Z
ORGANIZER;CN=Chaniartoon - International Comic & Animation Festival:MAILTO:
 info@chaniartoonfest.gr
GEO:35.518247;24.02048
X-APPLE-STRUCTURED-LOCATION;VALUE=URI;X-ADDRESS=Karnagio\, 8\, Πλατεί
 α Γεωργίου Κατεχάκη\, Kastelli\, Chania\, Municipality of
  Chania\, Chania Regional Unit\, Region of Crete\, 731 32\, Greece;X-APPLE
 -RADIUS=72;X-TITLE=Θέατρο Μίκης Θεοδωράκης:35.518247;
 24.02048
END:VEVENT
END:VCALENDAR