BEGIN:VCALENDAR
VERSION:2.0
PRODID:Events Booking
BEGIN:VEVENT
UID:69e7e67129f0a
SUMMARY:Ο θησαυρός της Λαβυρίνθου
DESCRIPTION:Στα πλαίσια του φεστιβάλ Chaniartoon 2025\
 , θα παρουσιαστεί το graphic novel Ο Θησαυρός Τ
 ης Λαβυρίνθου από τις εκδόσεις Μικρός Ήρ
 ως με τη μορφή workshop\, όπου θα δοθεί η δυνα
 τότητα στους αναγνώστες τόσο να έρθουν σ
 ε επαφή με το έργο μέσω της συζήτησης\, όσ
 ο και σχεδιάζοντας οι ίδιοι και οι ίδιες 
 χαρακτήρες\, τοπία ή και ολόκληρες σελίδ
 ες του κόμικς. Το graphic novel Ο Θησαυρός Της 
 Λαβυρίνθου ξεκινάει με το αγαπημένο πάρ
 κο της γειτονιάς μιας παρέας παιδιών να 
 βρίσκετε σε κίνδυνο\, καθώς θα μετατραπε
 ί σε εμπορικό κέντρο. Τα παιδιά βρίσκουν 
 στο πάρκο ένα σπασμένο αγγείο\, που ανακα
 λύπτουν ότι έχει κατασκευαστεί από έναν 
 φημισμένο αγγειοπλάστη της Κατοχής και 
 συνδέεται με τον θρύλο ενός χαμένου θησα
 υρού. Έτσι\, ξεκινάει ένας αγώνας για την 
 διαφύλαξη του πάρκου και της ιστορικής τ
 ου αξίας. Πρόκειται για ένα κόμικς που α
 φορά τόσο την περιβαλλοντική κρίση\, όσο 
 και την τρομακτική επέλαση του gentrification\, 
 και τους αγώνες για να υπάρχει ακόμα πρά
 σινο στις πόλεις μας. Ένα πολύχρωμο graphic n
 ovel που θα αγγίξει μικρούς και μεγάλους!Σ
 το event θα βρίσκονται οι δημιουργοί του grap
 hic novel\, ο σεναριογράφος Δημήτρης Γραμμέν
 ος και οι σχεδιαστές Γιώργος Παπαηλίου κ
 αι Νικόλας Στεφαδούρος. Όλοι τους θα συμ
 βάλλουν δημιουργικά και θα καθοδηγήσουν
  μικρούς και μεγάλους στην αναζήτηση του
  Θησαυρού της Λαβυρίνθου!
LOCATION:Karnagio\, 8\, Πλατεία Γεωργίου Κατεχάκη\, 
 Kastelli\, Chania\, Municipality of Chania\, Chania Regional Unit\, Region
  of Crete\, 731 32\, Greece
DTSTART:20250927T080000Z
DTEND:20250927T090000Z
DTSTAMP:20250913T082031Z
ORGANIZER;CN=Chaniartoon - International Comic & Animation Festival:MAILTO:
 info@chaniartoonfest.gr
GEO:35.518247;24.02048
X-APPLE-STRUCTURED-LOCATION;VALUE=URI;X-ADDRESS=Karnagio\, 8\, Πλατεί
 α Γεωργίου Κατεχάκη\, Kastelli\, Chania\, Municipality of
  Chania\, Chania Regional Unit\, Region of Crete\, 731 32\, Greece;X-APPLE
 -RADIUS=72;X-TITLE=Θέατρο Μίκης Θεοδωράκης:35.518247;
 24.02048
END:VEVENT
END:VCALENDAR