BEGIN:VCALENDAR
VERSION:2.0
PRODID:Events Booking
BEGIN:VEVENT
UID:69e96807952bc
SUMMARY:Κόμικς\; Το σχέδιο δεν φτάνει…
DESCRIPTION:Η 9 η Τέχνη\, η τέχνη των κόμικς\, είν
 αι άμεσα συνυφασμένη με το οπτικό στοιχε
 ίο: το σχέδιο. Φτάνει\, όμως\, αυτό\; Αρκεί 
 να έχει κανείς ανεπτυγμένες εικονογραφι
 κές ικανότητες για να εξασφαλίσει την επ
 ιτυχία ενός καλού κόμικς\; Όσο αντιφατικ
 ό κι αν ακούγεται από έναν… Μαέστρο της 
 τέχνης\, ο Ιταλός δημιουργός κόμικς Massimo D
 e Vita εξηγεί πως τελικά η επιτυχία στα κόμ
 ικς δεν εξαντλείται στο μολύβι και το πε
 νάκι.
LOCATION:Karnagio\, 8\, Πλατεία Γεωργίου Κατεχάκη\, 
 Kastelli\, Chania\, Municipality of Chania\, Chania Regional Unit\, Region
  of Crete\, 731 32\, Greece
DTSTART:20240928T080000Z
DTEND:20240928T100000Z
DTSTAMP:20240829T120043Z
ORGANIZER;CN=Chaniartoon - International Comic & Animation Festival:MAILTO:
 info@chaniartoonfest.gr
GEO:35.518247;24.02048
X-APPLE-STRUCTURED-LOCATION;VALUE=URI;X-ADDRESS=Karnagio\, 8\, Πλατεί
 α Γεωργίου Κατεχάκη\, Kastelli\, Chania\, Municipality of
  Chania\, Chania Regional Unit\, Region of Crete\, 731 32\, Greece;X-APPLE
 -RADIUS=72;X-TITLE=Θέατρο Μίκης Θεοδωράκης:35.518247;
 24.02048
END:VEVENT
END:VCALENDAR