BEGIN:VCALENDAR
VERSION:2.0
PRODID:Events Booking
BEGIN:VEVENT
UID:69e7e50c8dfc8
SUMMARY:Πραγματοποίηση Εργαστηρίου
DESCRIPTION:Μπορείτε να μας στείλετε την πρότα
 σή σας για την εργαστήριο που θέλετε να κ
 άνετε στο  Chaniartoon 2026.Το εργαστήριο πρέπε
 ι να ανήκει σε μια από τις ακόλουθες κατη
 γορίες:1. Κόμικ - Εικονογράφηση2. Animation3. Game
 -Design4. Εικονική Πραγματικότητα5. Τέχνη κα
 ι τεχνολογία6. Αφήγηση
  
DTSTART:20260917T210000Z
DTEND:20261003T210000Z
DTSTAMP:20221115T112019Z
ORGANIZER;CN=Chaniartoon - International Comic & Animation Festival:MAILTO:
 info@chaniartoonfest.gr
END:VEVENT
END:VCALENDAR