BEGIN:VCALENDAR
VERSION:2.0
PRODID:Events Booking
BEGIN:VEVENT
UID:69eb951b82546
SUMMARY:Τα Μέσα και τα Έξω - Εξομολογήσεις κα
 ι ενδοσκοπήσεις μέσα από τα σκίτσα των Γ
 αβριήλ Παγώνη και Αλέξιας Οθωναίου στο έ
 νθετο «Καρέ Καρέ» της Εφημερίδας των Συν
 τακτών
DESCRIPTION:Τις βαθύτερες εξομολογήσεις μας τ
 ις κάνουμε στον εαυτό μας ή στον ψυχαναλ
 υτή μας. Η Αλέξια Οθωναίου με τη σειρά «Χ 
 εις τον Ψ» αποκαλύπτει σύντομα\, απολαυσ
 τικά κόμικς-αποσπάσματα από τις συνεδρί
 ες των αγνώστων Χ στον καναπέ του Ψ και ο 
 Γαβριήλ Παγώνης με τη συμμετοχή του στη 
 σειρά «Το Λεξικό της Κρίσης» βγάζει τα μ
 έσα έξω καταγράφοντας με πικρό χιούμορ τ
 ις αποτυχημένες απόπειρες συμφιλίωσης μ
 ε τον εαυτό. Η έκθεση «Τα Μέσα και τα Έξω»
  σε επιμέλεια της Λουίζας Καραγεωργίου κ
 αι του Γιάννη Κουκουλά παρουσιάζει επιλ
 εγμένα έργα τους από το Καρέ Καρέ της Εφη
 μερίδας των Συντακτών και προσκαλεί το κ
 οινό σε μια ενδοσκόπηση λυτρωτικής αυτο
 γνωσίας και αυτοσαρκασμού.Ομιλητές: Λου
 ίζα Καραγεωργίου\, Γιάννης Κουκουλάς\, κα
 ι οι καλλιτέχνες Γαβριήλ Παγώνης\, Αλέξι
 α Οθωναίου
LOCATION:Karnagio\, 8\, Πλατεία Γεωργίου Κατεχάκη\, 
 Kastelli\, Chania\, Municipality of Chania\, Chania Regional Unit\, Region
  of Crete\, 731 32\, Greece
DTSTART:20240929T100000Z
DTEND:20240927T110000Z
DTSTAMP:20240902T082216Z
ORGANIZER;CN=Chaniartoon - International Comic & Animation Festival:MAILTO:
 info@chaniartoonfest.gr
GEO:35.518247;24.02048
X-APPLE-STRUCTURED-LOCATION;VALUE=URI;X-ADDRESS=Karnagio\, 8\, Πλατεί
 α Γεωργίου Κατεχάκη\, Kastelli\, Chania\, Municipality of
  Chania\, Chania Regional Unit\, Region of Crete\, 731 32\, Greece;X-APPLE
 -RADIUS=72;X-TITLE=Θέατρο Μίκης Θεοδωράκης:35.518247;
 24.02048
END:VEVENT
END:VCALENDAR