BEGIN:VCALENDAR
VERSION:2.0
PRODID:Events Booking
BEGIN:VEVENT
UID:69e7e64e0bdfe
SUMMARY:Φτιάξε το δικό σου mini Comic με την Mαίρη 
 Καλαμπαλίκα
DESCRIPTION:Φτιάξε το δικό σου mini Comic με την Μα
 ίρη Καλαμπαλίκα
 Στο βιβλιοπωλείο «Σπόρ
 ακι» φυτρώνει ένας Σπόρος! Θα γνωρίσουμε
  τον χαρακτήρα του ομώνυμου κόμικς και θ
 α μιλήσουμε για το πώς μια μικρή ιδέα μπο
 ρεί να μεγαλώσει και να γίνει ολόκληρη ι
 στορία με λόγια και εικόνες! Στη συνέχει
 α θα μάθουμε πώς μπορούμε να φτιάξουμε τ
 ο δικό μας μίνι κομιξάκι (zine) από μία κόλλ
 α χαρτί!Με καθοδήγηση βήμα-βήμα\, τα παιδ
 ιά θα δημιουργήσουν τις δικές τους μικρέ
 ς ιστορίες σε μορφή κόμικ\, που θα πάρουν 
 μαζί τους στο τέλος του εργαστηρίου.
 Πρ
 οτεινόμενες ηλικίες: 6-12
  
 Όλα τα εργασ
 τήρια είναι με δωρεάν συμμετοχή\, με την 
 εθελοντική προσφορά γραφικής ύλης η οπο
 ία θα δοθεί για τη στήριξη των αναγκών το
 υ Συλλόγου «Ορίζοντας».
LOCATION:Μπονιαλη Κτιστακη 11\, Chania\, Municipality of Ch
 ania\, Chania Regional Unit\, Region of Crete\, 731 34\, Greece
DTSTART:20250925T160000Z
DTEND:20250925T170000Z
DTSTAMP:20250908T145848Z
ORGANIZER;CN=Chaniartoon - International Comic & Animation Festival:MAILTO:
 info@chaniartoonfest.gr
GEO:35.511754;24.021896
X-APPLE-STRUCTURED-LOCATION;VALUE=URI;X-ADDRESS=Μπονιαλη Κτιστ
 ακη 11\, Chania\, Municipality of Chania\, Chania Regional Unit\, Regio
 n of Crete\, 731 34\, Greece;X-APPLE-RADIUS=72;X-TITLE=Βιβλιοπωλ
 είο \"Το Σποράκι\":35.511754;24.021896
END:VEVENT
END:VCALENDAR