BEGIN:VCALENDAR
VERSION:2.0
PRODID:Events Booking
BEGIN:VEVENT
UID:69e7e69c64801
SUMMARY:Παίζοντας μια ναυτιλιακή ιστορία τη
 ς Μεσογείου τον 19ο αιώνα
DESCRIPTION:Το παιχνίδι «SeaLiT – Μεσογειακά πλο
 ία και εμπόριο στον μακρύ 19ο αιώνα» είνα
 ι ένα διασκεδαστικό και εκπαιδευτικό τα
 ξίδι στον κόσμο της ναυτικής ιστορίας τη
 ς Μεσογείου και της Μαύρης Θάλασσας κατά
  τη διάρκεια του 19ου αιώνα\, δηλαδή από τη
  Γαλλική Επανάσταση έως τον Πρώτο Παγκόσ
 μιο Πόλεμο\, όπως ορίστηκε από τον ιστορι
 κό Eric Hobsbawm. Στο παιχνίδι οι παίκτες αναλα
 μβάνουν τον ρόλο των πλοιοκτητών οι οποί
 οι θα πρέπει να αναπτύξουν την επιχείρησ
 ή τους\, να αναβαθμίσουν τα πλοία τους κα
 ι να προσαρμόσουν τις στρατηγικές τους σ
 τις μεταβαλλόμενες συνθήκες του εξωτερι
 κού περιβάλλοντος. Ενώ παίζουν το παιχνί
 δι\, οι παίκτες θα εξερευνήσουν το σύμπαν
  του θαλάσσιου εμπορίου\, θα αποκτήσουν μ
 ια αίσθηση για τους μηχανισμούς και την 
 ιστορική του εξέλιξη κ.α.
  Όλα τα εργαστ
 ήρια είναι με δωρεάν συμμετοχή\, με την ε
 θελοντική προσφορά γραφικής ύλης η οποί
 α θα δοθεί για τη στήριξη των αναγκών του
  Συλλόγου «Ορίζοντας».
 
LOCATION:Karnagio\, 8\, Πλατεία Γεωργίου Κατεχάκη\, 
 Kastelli\, Chania\, Municipality of Chania\, Chania Regional Unit\, Region
  of Crete\, 731 32\, Greece
DTSTART:20250921T080000Z
DTEND:20250921T100000Z
DTSTAMP:20250908T144046Z
ORGANIZER;CN=Chaniartoon - International Comic & Animation Festival:MAILTO:
 info@chaniartoonfest.gr
GEO:35.518247;24.02048
X-APPLE-STRUCTURED-LOCATION;VALUE=URI;X-ADDRESS=Karnagio\, 8\, Πλατεί
 α Γεωργίου Κατεχάκη\, Kastelli\, Chania\, Municipality of
  Chania\, Chania Regional Unit\, Region of Crete\, 731 32\, Greece;X-APPLE
 -RADIUS=72;X-TITLE=Θέατρο Μίκης Θεοδωράκης:35.518247;
 24.02048
END:VEVENT
END:VCALENDAR