BEGIN:VCALENDAR
VERSION:2.0
PRODID:Events Booking
BEGIN:VEVENT
UID:69e95d7fc80cc
SUMMARY:Η Ουτοπία και Δυστοπία μας
DESCRIPTION:Πώς μοιάζει η ονειρική σας ουτοπία
  ή η εφιαλτική σας δυστοπία σε αυτό το χώ
 ρο\;Με εργαλεία το κολάζ\, το σκίτσο και τ
 ο κείμενο\, σχεδιάζετε μια αφηγηματική ε
 ικόνα από ένα φανταστικό μέλλον ενός ανο
 ιχτού χώρου. Το κάθε άτομο δημιουργεί στ
 αδιακά τον προσωπικό του καμβά\, αποτυπώ
 νοντας έννοιες που εμφανίζονται με τυχα
 ία σειρά κατά τη διάρκεια του εργαστηρίο
 υ.Α\, και θυμηθείτε να φέρετε μαζί σας περ
 ιοδικά\, εφημερίδες\, χαρτιά ή κόμικ (τα γ
 ερά τα δωρίζουμε στην βιβλιοθήκη του φεσ
 τιβάλ) που είναι για κόψιμο\, ώστε να έχου
 με μεγαλύτερη ποικιλία.
 *H συμμετοχή στο
  εργαστήριο είναι δωρεάν. Αντί αμοιβής\, 
 μπορείτε να δωρίζετε γραφική ύλη (μολύβι
 α\, γόμες\, ξύστρες\, ξυλομπογιές\, μπλοκ ζ
 ωγραφικής κλπ.)\, τα οποία θα γίνουν δωρεά
  για τα παιδιά του συλλόγου \"Ορίζοντας\".
LOCATION:Karnagio\, 8\, Πλατεία Γεωργίου Κατεχάκη\, 
 Kastelli\, Chania\, Municipality of Chania\, Chania Regional Unit\, Region
  of Crete\, 731 32\, Greece
DTSTART:20240921T080000Z
DTEND:20240821T103000Z
DTSTAMP:20240829T070631Z
ORGANIZER;CN=Chaniartoon - International Comic & Animation Festival:MAILTO:
 info@chaniartoonfest.gr
GEO:35.518247;24.02048
X-APPLE-STRUCTURED-LOCATION;VALUE=URI;X-ADDRESS=Karnagio\, 8\, Πλατεί
 α Γεωργίου Κατεχάκη\, Kastelli\, Chania\, Municipality of
  Chania\, Chania Regional Unit\, Region of Crete\, 731 32\, Greece;X-APPLE
 -RADIUS=72;X-TITLE=Θέατρο Μίκης Θεοδωράκης:35.518247;
 24.02048
END:VEVENT
END:VCALENDAR