BEGIN:VCALENDAR
VERSION:2.0
PRODID:Events Booking
BEGIN:VEVENT
UID:69e96dbde1522
SUMMARY:Από τις λέξεις στις εικόνες: γράφοντ
 ας για κόμικς: Τάσος Ζαφειριάδης\, Γιάννη
 ς Παλαβός
DESCRIPTION:Οι συγγραφείς Γιάννης Παλαβός και 
 Τάσος Ζαφειριάδης\, συν-σεναριογράφοι τω
 ν κόμικς&nbsp\;Το πτώμα&nbsp\;(Jemma&nbsp\;Press&nbsp\;2011)
  και&nbsp\;Γρα-Γρου&nbsp\;(Ίκαρος – Βραβείο Κα
 λύτερου Κόμικς και Βραβείο Καλύτερου Σε
 ναρίου στα Ελληνικά Βραβεία Κόμικς 2018)\, 
 ξετυλίγει το νήμα της συνεργασίας τους μ
 ε τον κόμιστα Θανάση Πέτρου για τη δημιο
 υργία των δύο βιβλίων και συζητούν με το
 υς συμμετέχοντες μια σειρά από ερωτήματ
 α: Ποια είναι η σχέση της λογοτεχνίας με 
 τα κόμικς\; Πώς σκεφτόμαστε όταν γράφουμ
 ε για κόμικς και πώς όταν γράφουμε ένα δι
 ήγημα\; Ποια είναι η φύση –και οι δυσκολί
 ες– της συνεργασίας ενός σεναριογράφου 
 κι ενός σχεδιαστή\;Μέσα από πρακτικά παρ
 αδείγματα και τη συζήτηση των ερωτημάτω
 ν αυτών\, οι συμμετέχοντες θα έχουν την ε
 υκαιρία να κατανοήσουν καλύτερα την περ
 ιπέτεια της σύλληψης και της δημιουργία
 ς ενός κόμικ Εισηγητές: Τάσος Ζαφειριάδη
 ς\, Γιάννης Παλαβός
 *H συμμετοχή στο εργα
 στήριο είναι δωρεάν. Αντί αμοιβής\, μπορε
 ίτε να δωρίζετε γραφική ύλη (μολύβια\, γό
 μες\, ξύστρες\, ξυλομπογιές\, μπλοκ ζωγραφ
 ικής κλπ.)\, τα οποία θα γίνουν δωρεά για τ
 α παιδιά του συλλόγου \"Ορίζοντας\".
LOCATION:Karnagio\, 8\, Πλατεία Γεωργίου Κατεχάκη\, 
 Kastelli\, Chania\, Municipality of Chania\, Chania Regional Unit\, Region
  of Crete\, 731 32\, Greece
DTSTART:20240929T100000Z
DTEND:20240929T110000Z
DTSTAMP:20240829T122412Z
ORGANIZER;CN=Chaniartoon - International Comic & Animation Festival:MAILTO:
 info@chaniartoonfest.gr
GEO:35.518247;24.02048
X-APPLE-STRUCTURED-LOCATION;VALUE=URI;X-ADDRESS=Karnagio\, 8\, Πλατεί
 α Γεωργίου Κατεχάκη\, Kastelli\, Chania\, Municipality of
  Chania\, Chania Regional Unit\, Region of Crete\, 731 32\, Greece;X-APPLE
 -RADIUS=72;X-TITLE=Θέατρο Μίκης Θεοδωράκης:35.518247;
 24.02048
END:VEVENT
END:VCALENDAR