BEGIN:VCALENDAR
VERSION:2.0
PRODID:Events Booking
BEGIN:VEVENT
UID:69e968aac6336
SUMMARY:Ο Ήρωας του Ποπάυ
DESCRIPTION:Γνωρίστε τον κόσμο του Ποπάυ. Μία π
 αρουσίαση για τον ιστορικό θίασο του Thimbl
 e Theatre που οδήγησε στη γέννηση του φαντασ
 τικού κόσμου του διάσημου ναύτη.Εισηγητ
 ής: Γιώργος Ζωιτάς
LOCATION:Karnagio\, 8\, Πλατεία Γεωργίου Κατεχάκη\, 
 Kastelli\, Chania\, Municipality of Chania\, Chania Regional Unit\, Region
  of Crete\, 731 32\, Greece
DTSTART:20240929T090000Z
DTEND:20240929T100000Z
DTSTAMP:20240830T074108Z
ORGANIZER;CN=Chaniartoon - International Comic & Animation Festival:MAILTO:
 info@chaniartoonfest.gr
GEO:35.518247;24.02048
X-APPLE-STRUCTURED-LOCATION;VALUE=URI;X-ADDRESS=Karnagio\, 8\, Πλατεί
 α Γεωργίου Κατεχάκη\, Kastelli\, Chania\, Municipality of
  Chania\, Chania Regional Unit\, Region of Crete\, 731 32\, Greece;X-APPLE
 -RADIUS=72;X-TITLE=Θέατρο Μίκης Θεοδωράκης:35.518247;
 24.02048
END:VEVENT
END:VCALENDAR