BEGIN:VCALENDAR
VERSION:2.0
PRODID:Events Booking
BEGIN:VEVENT
UID:69e983aa92051
SUMMARY:Πόσο τρομακτικοί μπορεί να φαινόμασ
 τε στους άλλους\;! Αποδομώντας τον τρόμο 
 της καθημερινής επικοινωνίας: Στέλλα Αγ
 γελάκη
DESCRIPTION:Τι κάνει κάποιες ταινίες τόσο τρομ
 ακτικές\; Πώς συνδέεται ο τρόμος που νιώθ
 ουμε όταν βλέπουμε μια τρομακτική σκηνή 
 με την καθημερινή επικοινωνία μεταξύ μα
 ς\;! Σε αυτό το εργαστήριο θα επιχειρήσου
 με να φωτίσουμε την αμηχανία\, τη σύγχυση
 \, τον εκνευρισμό\, και το μπέρδεμα που συ
 χνά βιώνουμε στη καθημερινή επικοινωνία
  μεταξύ μας και να προσεγγίσουμε νέους τ
 ρόπους έκφρασης\, μέσα από ομαδικά projects κ
 αι γέλιο !
 *H συμμετοχή στο εργαστήριο εί
 ναι δωρεάν. Αντί αμοιβής\, μπορείτε να δω
 ρίζετε γραφική ύλη (μολύβια\, γόμες\, ξύστ
 ρες\, ξυλομπογιές\, μπλοκ ζωγραφικής κλπ.)
 \, τα οποία θα γίνουν δωρεά για τα παιδιά 
 του συλλόγου \"Ορίζοντας\".
LOCATION:Karnagio\, 8\, Πλατεία Γεωργίου Κατεχάκη\, 
 Kastelli\, Chania\, Municipality of Chania\, Chania Regional Unit\, Region
  of Crete\, 731 32\, Greece
DTSTART:20240925T150000Z
DTEND:20240925T173000Z
DTSTAMP:20240829T080100Z
ORGANIZER;CN=Chaniartoon - International Comic & Animation Festival:MAILTO:
 info@chaniartoonfest.gr
GEO:35.518247;24.02048
X-APPLE-STRUCTURED-LOCATION;VALUE=URI;X-ADDRESS=Karnagio\, 8\, Πλατεί
 α Γεωργίου Κατεχάκη\, Kastelli\, Chania\, Municipality of
  Chania\, Chania Regional Unit\, Region of Crete\, 731 32\, Greece;X-APPLE
 -RADIUS=72;X-TITLE=Θέατρο Μίκης Θεοδωράκης:35.518247;
 24.02048
END:VEVENT
END:VCALENDAR