BEGIN:VCALENDAR
VERSION:2.0
PRODID:Events Booking
BEGIN:VEVENT
UID:69e7e670e71a9
SUMMARY:Καλλιτεχνικό Εργαστήριο της Silvia Ziche: 
 Γιατί μου αρέσει να αφηγούμαι με σχέδια
DESCRIPTION:Καλλιτεχνικό Εργαστήριο της Silvia Zic
 he: Γιατί μου αρέσει να αφηγούμαι με σχέδι
 αΣε αυτό το διαδραστικό εργαστήριο\, η κα
 ταξιωμένη Ιταλίδα δημιουργός Silvia Ziche μοι
 ράζεται πώς οι ιστορίες της γεννιούνται 
 από την καθημερινή παρατήρηση—παρακολο
 υθώντας ανθρώπους στον δρόμο\, στο μετρό\
 , στο τρένο\, και συλλαμβάνοντας τον αυθο
 ρμητισμό της παιδικής ηλικίας.Οι συμμετ
 έχοντες θα ανακαλύψουν πως ακόμη και το 
 πιο απλό σκίτσο μπορεί να μεταμορφωθεί σ
 ε μια ιστορία γεμάτη ειρωνεία\, τρυφερότ
 ητα ή ποίηση—και συχνά όλα αυτά μαζί. Η Zi
 che θα προσφέρει μια προσωπική ματιά στη δ
 ημιουργική της διαδικασία και θα δείξει 
 πώς το σχέδιο γίνεται μια παγκόσμια γλώσ
 σα αφήγησης που μας συνδέει όλους.
  
 
 
 Όλα τα εργαστήρια είναι με δωρεάν συμμετ
 οχή\, με την εθελοντική προσφορά γραφική
 ς ύλης η οποία θα δοθεί για τη στήριξη τω
 ν αναγκών του Συλλόγου «Ορίζοντας».
LOCATION:Karnagio\, 8\, Πλατεία Γεωργίου Κατεχάκη\, 
 Kastelli\, Chania\, Municipality of Chania\, Chania Regional Unit\, Region
  of Crete\, 731 32\, Greece
DTSTART:20250927T090000Z
DTEND:20250927T100000Z
DTSTAMP:20250908T150355Z
ORGANIZER;CN=Chaniartoon - International Comic & Animation Festival:MAILTO:
 info@chaniartoonfest.gr
GEO:35.518247;24.02048
X-APPLE-STRUCTURED-LOCATION;VALUE=URI;X-ADDRESS=Karnagio\, 8\, Πλατεί
 α Γεωργίου Κατεχάκη\, Kastelli\, Chania\, Municipality of
  Chania\, Chania Regional Unit\, Region of Crete\, 731 32\, Greece;X-APPLE
 -RADIUS=72;X-TITLE=Θέατρο Μίκης Θεοδωράκης:35.518247;
 24.02048
END:VEVENT
END:VCALENDAR