BEGIN:VCALENDAR
VERSION:2.0
PRODID:Events Booking
BEGIN:VEVENT
UID:69e7e66ebbd60
SUMMARY:Μεταγλώττιση σε... Κρίση: με τον Δημήτ
 ρη Σάρλο   
DESCRIPTION:Μεταγλώττιση σε... Κρίση: με τον Δη
 μήτρη Σάρλο
 Ελάτε μαζί μας να δώσουμε ε
 λληνική φωνή σε επιλεγμένο απόσπασμα απ
 ό διάσημο κινούμενο σχέδιο.
  
 
  
 Όλα 
 τα εργαστήρια είναι με δωρεάν συμμετοχή\
 , με την εθελοντική προσφορά γραφικής ύλ
 ης η οποία θα δοθεί για τη στήριξη των αν
 αγκών του Συλλόγου «Ορίζοντας».
LOCATION:Karnagio\, 8\, Πλατεία Γεωργίου Κατεχάκη\, 
 Kastelli\, Chania\, Municipality of Chania\, Chania Regional Unit\, Region
  of Crete\, 731 32\, Greece
DTSTART:20250926T160000Z
DTEND:20250926T170000Z
DTSTAMP:20250908T150128Z
ORGANIZER;CN=Chaniartoon - International Comic & Animation Festival:MAILTO:
 info@chaniartoonfest.gr
GEO:35.518247;24.02048
X-APPLE-STRUCTURED-LOCATION;VALUE=URI;X-ADDRESS=Karnagio\, 8\, Πλατεί
 α Γεωργίου Κατεχάκη\, Kastelli\, Chania\, Municipality of
  Chania\, Chania Regional Unit\, Region of Crete\, 731 32\, Greece;X-APPLE
 -RADIUS=72;X-TITLE=Θέατρο Μίκης Θεοδωράκης:35.518247;
 24.02048
END:VEVENT
END:VCALENDAR