BEGIN:VCALENDAR
VERSION:2.0
PRODID:Events Booking
BEGIN:VEVENT
UID:69e7e64c8a60b
SUMMARY:WILDCAT Project
DESCRIPTION:To Chaniartoon συμμετέχει σε Ευρωπαϊκό Π
 ρόγραμμα για την δημιουργία 3 ιστοριών κ
 όμικς!Το σενάριο θα συνδιαμορφωθεί από ν
 έους ηλικίας 15-30 ετών που θα συμμετέχουν 
 στο εργαστήριο. Οι διαθέσιμες ώρες είνα
 ι:Τετάρτη:18.00-18.4019.00-19.4020.00-20.30Πέμπτη:19.00-19.4
 020.00-20.30Κατά την συμπλήρωση της φόρμας\, γ
 ράψτε στο σχόλιο την ώρα/μέρα που θέλετε 
 να κλείσετε. 
DTSTART:20250924T150000Z
DTEND:20250925T173000Z
DTSTAMP:20250922T035131Z
ORGANIZER;CN=Chaniartoon - International Comic & Animation Festival:MAILTO:
 info@chaniartoonfest.gr
END:VEVENT
END:VCALENDAR