BEGIN:VCALENDAR
VERSION:2.0
PRODID:Events Booking
BEGIN:VEVENT
UID:69eb41deac59e
SUMMARY:Ζοrμπάς – Πράσινη πέτρα ωραιοτάτη
DESCRIPTION:Η Mαρίνα Αρετάκη\, διδάκτωρ Νεοελλη
 νικής Φιλολογίας του Πανεπιστημίου της 
 Σορβόνης\, η Παρασκευή Βασιλειάδη\, επιμε
 λήτρια συλλογών και αναπληρώτρια διευθύ
 ντρια του Μουσείου Νίκου Καζαντζάκη παρ
 ουσιάζουν το καινούργιο graphic novel «ΖΟRΜΠΑΣ
 \, πράσινη πέτρα ωραιοτάτη » του Αντώνη Ν
 ικολόπουλου (Soloúp) από τις εκδόσεις «Διόπ
 τρα» με την παρουσία του δημιουργού. Μια 
 ενδιαφέρουσα συζήτηση για τον Νίκο Καζα
 ντζάκη\, τη σύλληψη\, τη δημιουργία\, και τ
 η σύνθεση του Αντώνη Νικολόπουλου (Soloúp).
 
 «Πώς να αναμετρηθείς με αυτόν τον Δράκο
 \;» γράφει ο Καζαντζάκης για τον Ζορμπά. Π
 ώς ν΄αναμετρηθείς με δύο δράκους σήμερα\
 , με τον Νίκο Καζαντάκη και με τον Ζορμπά\
 , χρησιμοποιώντας μάλιστα τη γλώσσα των 
 κόμικς για ν΄αποδώσεις εκ νέου το εμβλημ
 ατικό και πολυμεταφρασμένο μυθιστόρημα 
 Βίος και πολιτεία του Αλέξη Ζορμπά\; Έχον
 τας επιπλέον ν΄αντιπαλέψεις τον μύθο κα
 ι την κυρίαρχη εικόνα του χαρακτήρα\, όπω
 ς ενσαρκώθηκε από τον Άντονι Κουίν στην 
 ταινία του Μιχάλη Κακογιάννη Zorba the Greek\;
 
 Ζωή\, έρωτας\, Θεός\, θάνατος αλλά και Διόν
 υσος\, Βούδας\, Νίτσε\, Μπερξόν\, Σαίξπηρ\, 
 Δάντης\, Ροντέν... Ο Soloúp στο graphic novel «ΖΟRΜΠ
 ΑΣ\, πράσινη πέτρα ωραιοτάτη» δεν κάνει μ
 ια απλή μεταφορά αλλά επιχειρεί να επανα
 φηγηθεί τα επεισόδια του συγκεκριμένου 
 μυθιστορήματος. Επεμβαίνει στη ροή\, ανα
 διατάσσει τις εμβόλιμες ιστορίες ενώ τα
 υτόχρονα προσπαθεί ν΄αποφύγει τα ισχυρά
  στερεότυπα του κινηματογραφικού Ζορμπά
 . Ακολουθώντας έτσι το πνεύμα του καζαντ
 ζακικού κειμένου\, προτείνει μια νέα αφή
 γηση λόγου και εικόνας\, ένα νέο ταξίδι\, 
 φιλοσοφικό\, γκροτέσκο\, τραγικό\, στον σύ
 γχρονο αναγνώστη. (από το οπισθόφυλλο το
 υ βιβλίου)
 Εισηγητές: Αντώνης Νικολόπου
 λος (Soloup)\, Μαρίνα Αρετάκη\, Παρασκευή Βασ
 ιλειάδη
LOCATION:Karnagio\, 8\, Πλατεία Γεωργίου Κατεχάκη\, 
 Kastelli\, Chania\, Municipality of Chania\, Chania Regional Unit\, Region
  of Crete\, 731 32\, Greece
DTSTART:20240926T170000Z
DTEND:20240926T183000Z
DTSTAMP:20240830T080826Z
ORGANIZER;CN=Chaniartoon - International Comic & Animation Festival:MAILTO:
 info@chaniartoonfest.gr
GEO:35.518247;24.02048
X-APPLE-STRUCTURED-LOCATION;VALUE=URI;X-ADDRESS=Karnagio\, 8\, Πλατεί
 α Γεωργίου Κατεχάκη\, Kastelli\, Chania\, Municipality of
  Chania\, Chania Regional Unit\, Region of Crete\, 731 32\, Greece;X-APPLE
 -RADIUS=72;X-TITLE=Θέατρο Μίκης Θεοδωράκης:35.518247;
 24.02048
END:VEVENT
END:VCALENDAR