BEGIN:VCALENDAR
VERSION:2.0
PRODID:Events Booking
BEGIN:VEVENT
UID:69eb564320462
SUMMARY:8th  Chaniartoon 8th Closing Party
DESCRIPTION:We say goodbye to the 8th Chaniartoon with music\, Charma beer 
 and a comic company on the balcony of the KAM (Mediterranean Architecture 
 Center) on the steps of Agios Markos.
DTSTART:20240929T203000Z
DTSTAMP:20240902T033405Z
ORGANIZER;CN=Chaniartoon - International Comic & Animation Festival:MAILTO:
 info@chaniartoonfest.gr
END:VEVENT
END:VCALENDAR