BEGIN:VCALENDAR
VERSION:2.0
PRODID:Events Booking
BEGIN:VEVENT
UID:69eb690695251
SUMMARY:Artist Alley
DESCRIPTION:More than 70 artists will attend Katehaki Square with their wor
 ks. With the participation of: Dimitris Avramopoulos\, Dimitra Adamopoulou
 \, Yannis Vavagiannis\, Iakovos Vais\, Thomas Valianatos\, Sofia Georgiadi
 s\, Anna-Carolina Jansen\, Stavros Damos\, Dionysis Digonis\, Markos Evlog
 himenos\, Panos Zaharis\, Seraphim Zisis\, Kostantinos Zygours her\, Efi T
 heodoropoulou\, Nikos Kazantzakis\, Maria Kairidou\, Mary Kalambalika\, Ni
 kos Kampasele\, Zoe Nicoletta Karadimitriou\, Sultana Iloridou\, Thanasis 
 Karapalios\, Konstantinos Katsos\, Apostolos Kentropoulos\, Klimis Keramit
 sopoulos\, Elli Kikidis\, Stavros Kioutsiukis\, Vangelis Kolotsios\, Perik
 lis Kou lifetis\, Onita Koutsoubanis\, Yiannis Kyritsis \, Manos Lagouvard
 os\, Georgia Leield\, Panagiotis Liakos\, Manolis Makrogiannakis\, Tasos M
 aragkos\, Vangelis Matziris\, Anestis Mavrommatis Parasidis\, Maria Bintzi
 a Ios\, Daniel Papalabros\, Marlena Paralavantza\, Vassilis Patsourakis\, 
 Thanasis Petropoulos\, Pavlos Pitoulias\, Joanna Poupakis\, Konstantinos R
 ouggeris\, Katerina Sarandinou\, Irini Skouras\, Adrianos Stangidis\, Niko
 s Stavrianos\, Nikolas Stephadouros\, Nasia Sotiropoulou\, Fotis Tselepati
 otis\, Kon ny Tsichlogianni\, Kathy Tsourlakis\, Kostas Fantaousakis \, Io
 sif Fadel\, Chrysa Hartsa\, Jimmy-Chris Agarai\, Ralitsa Aleksieva\, Mich
 èle Ballinger\, Silvia Bessero\, Kalli Dolcetti\, LoudmouseCrew\, Rebecca
  PelayoThe publishers Jemma Press\, Mikros Iros\, the Comic Friends Club\,
  and the store Comixadiko are also participating.
 During Arist Alley\, S
 hintaro Kago\, Massimo de Vita\, and Soloup will sign their books.
LOCATION:Karnagio\, 8\, Πλατεία Γεωργίου Κατεχάκη\, 
 Kastelli\, Chania\, Municipality of Chania\, Chania Regional Unit\, Region
  of Crete\, 731 32\, Greece
DTSTART:20240927T080000Z
DTEND:20240929T203000Z
DTSTAMP:20240829T141730Z
ORGANIZER;CN=Chaniartoon - International Comic & Animation Festival:MAILTO:
 info@chaniartoonfest.gr
GEO:35.518273;24.020196
X-APPLE-STRUCTURED-LOCATION;VALUE=URI;X-ADDRESS=Karnagio\, 8\, Πλατεί
 α Γεωργίου Κατεχάκη\, Kastelli\, Chania\, Municipality of
  Chania\, Chania Regional Unit\, Region of Crete\, 731 32\, Greece;X-APPLE
 -RADIUS=72;X-TITLE=Katehaki Square:35.518273;24.020196
END:VEVENT
END:VCALENDAR