BEGIN:VCALENDAR
VERSION:2.0
PRODID:Events Booking
BEGIN:VEVENT
UID:69e9d4b924b4d
SUMMARY:Boardgame night (2)
DESCRIPTION:
 Every Tuesday\, at 20.00 in Comxiadiko\, we gather our favou
 rite boardgames!Do you seek a company for boardgames? Do you have a game y
 ou wish to play?Come to Comixadiko\, with or without company\, with or wit
 hout a game\, for a boardgame night!
 
 &nbsp\;
LOCATION:Γεωργίου Ξέπαππα 15\, Νέα Χώρα\, Chania\, Mu
 nicipality of Chania\, Chania Regional Unit\, Region of Crete\, 731 30\, G
 reece
DTSTART:20240716T170000Z
DTEND:20240716T205500Z
DTSTAMP:20240107T143308Z
ORGANIZER;CN=Chaniartoon - International Comic & Animation Festival:MAILTO:
 info@chaniartoonfest.gr
GEO:35.51057;24.012889
X-APPLE-STRUCTURED-LOCATION;VALUE=URI;X-ADDRESS=Γεωργίου Ξέπαπ
 πα 15\, Νέα Χώρα\, Chania\, Municipality of Chania\, Chania Regio
 nal Unit\, Region of Crete\, 731 30\, Greece;X-APPLE-RADIUS=72;X-TITLE=Com
 ixadiko:35.51057;24.012889
END:VEVENT
END:VCALENDAR