BEGIN:VCALENDAR
VERSION:2.0
PRODID:Events Booking
BEGIN:VEVENT
UID:69e9d3b6aa50d
SUMMARY:Books & Beers 3
DESCRIPTION:3η συνάντηση books n' beer || 14 &amp\; 15 Ιουνί
 ου  Με την γνώση των βιβλίων φωτίζουμε το
  σκοτάδι
 Ένα βιβλίο μας συντροφεύει\, μα
 ς γνωρίζει νέους κόσμους\, μας ταξιδεύει 
 στο χώρο και στο χρόνο. Επίσης\, ένα βιβλί
 ο είναι η καλύτερη αφορμή για συνάντηση 
 και κουβεντούλα. Με αφορμή λοιπόν το βιβ
 λίο\, συναντιόμαστε ξανά στο τρίτο books n' be
 er που διοργανώνει η συλλογικότητα Terra Verde
  (Πράσινη Γη) στις 14 και 15/6\, στην οδό Τσου
 δερών.
 Και τις δυο μέρες\, από το απόγευμ
 α θα υπάρχουν πάγκοι γεμάτοι με βιβλία κ
 αθώς και ειδικό αφιέρωμα στα comics από το co
 mixadiko  Ενώ οι βραδιές θα κλείσουν με ζωντα
 νή μουσική\, μπύρες από μικρές ζυθοποιίε
 ς και εκλεκτά μεζεδάκια.
LOCATION:93\, Τσουδερών\, Σπλάντζια\, Χανιά\, Δήμ
 ος Χανίων\, Περιφερειακή Ενότητα Χανίων\,
  Περιφέρεια Κρήτης\, Αποκεντρωμένη Διοίκ
 ηση Κρήτης\, 731 32\, Ελλάδα
DTSTART:20240614T160000Z
DTEND:20240615T204500Z
DTSTAMP:20240604T053114Z
ORGANIZER;CN=Chaniartoon - International Comic & Animation Festival:MAILTO:
 info@chaniartoonfest.gr
GEO:35.515234;24.021488
X-APPLE-STRUCTURED-LOCATION;VALUE=URI;X-ADDRESS=93\, Τσουδερών\, 
 Σπλάντζια\, Χανιά\, Δήμος Χανίων\, Περιφερ
 ειακή Ενότητα Χανίων\, Περιφέρεια Κρήτης
 \, Αποκεντρωμένη Διοίκηση Κρήτης\, 731 32\, Ε
 λλάδα;X-APPLE-RADIUS=72;X-TITLE=Terra Verde:35.515234;24.021488
END:VEVENT
END:VCALENDAR