BEGIN:VCALENDAR
VERSION:2.0
PRODID:Events Booking
BEGIN:VEVENT
UID:69e94e21500a8
SUMMARY:Discussion on Artificial Intelligence and comics
DESCRIPTION:The comic creators Spyros Derveniotis\, Panagiotis Liakos\, and
  Periklis Koulifetis\, the lecturer at the Ionian University\, Department 
 of Sound &amp\; Visual Arts Thomas Valianatos\, and Ilan Manouach\, creato
 r of conceptual comics\, publisher\, exhibition curator\, and postdoctoral
  researcher at the University of Liege (having completed his PhD thesis at
  Aalto University)\, discuss the possibilities and limitations of Artifici
 al Intelligence. Still\, there are also ethical dilemmas\, risks\, the nee
 d for renegotiation\, and knowledge of AI applications and their uses in c
 omics.
 Speakers: Ilan Manouach\, Spyros Derveniotis\, Thomas Valianatos\
 , Panagiotis Liakos\, Periklis Koulifetis
LOCATION:Karnagio\, 8\, Πλατεία Γεωργίου Κατεχάκη\, 
 Kastelli\, Chania\, Municipality of Chania\, Chania Regional Unit\, Region
  of Crete\, 731 32\, Greece
DTSTART:20240929T160000Z
DTEND:20240929T170000Z
DTSTAMP:20240902T030917Z
ORGANIZER;CN=Chaniartoon - International Comic & Animation Festival:MAILTO:
 info@chaniartoonfest.gr
GEO:35.518247;24.02048
X-APPLE-STRUCTURED-LOCATION;VALUE=URI;X-ADDRESS=Karnagio\, 8\, Πλατεί
 α Γεωργίου Κατεχάκη\, Kastelli\, Chania\, Municipality of
  Chania\, Chania Regional Unit\, Region of Crete\, 731 32\, Greece;X-APPLE
 -RADIUS=72;X-TITLE=Theatre Mikis Theodorakis:35.518247;24.02048
END:VEVENT
END:VCALENDAR