BEGIN:VCALENDAR
VERSION:2.0
PRODID:Events Booking
BEGIN:VEVENT
UID:69e94eacc908a
SUMMARY:Disney Quiz - 90 Years Donald
DESCRIPTION:Do you think you know everything about The Donald? Prove your k
 nowledge in an anniversary quiz dedicated to the 90 years of life of the b
 eloved\, irritable duck! Contest participants will have the chance to win 
 unique designs by international guest Massimo De Vita! 
 Speaker: Giorgos
  Zoitas
LOCATION:Karnagio\, 8\, Πλατεία Γεωργίου Κατεχάκη\, 
 Kastelli\, Chania\, Municipality of Chania\, Chania Regional Unit\, Region
  of Crete\, 731 32\, Greece
DTSTART:20240929T183000Z
DTEND:20240929T191500Z
DTSTAMP:20240830T075924Z
ORGANIZER;CN=Chaniartoon - International Comic & Animation Festival:MAILTO:
 info@chaniartoonfest.gr
GEO:35.518247;24.02048
X-APPLE-STRUCTURED-LOCATION;VALUE=URI;X-ADDRESS=Karnagio\, 8\, Πλατεί
 α Γεωργίου Κατεχάκη\, Kastelli\, Chania\, Municipality of
  Chania\, Chania Regional Unit\, Region of Crete\, 731 32\, Greece;X-APPLE
 -RADIUS=72;X-TITLE=Theatre Mikis Theodorakis:35.518247;24.02048
END:VEVENT
END:VCALENDAR