BEGIN:VCALENDAR
VERSION:2.0
PRODID:Events Booking
BEGIN:VEVENT
UID:69e961848dd99
SUMMARY:From words to images: writing for comics: Tassos Zafeiriadis\, Yian
 nis Palavos
DESCRIPTION:Writers Yiannis Palavos and Tasos Zafeiriadis\, co-writers of t
 he comics The Corpse (Jemma Press 2011) and Gra-Grou (Ikaros – Best Comi
 c Award and Best Script Award at the Greek Comics Awards 2018) unravel the
  thread of their collaboration with the comic Thanasis Petrou for the crea
 tion of the two books and discuss with the participants a series of questi
 ons: What is the relationship between literature and comics? How do we thi
 nk when we write for comics\, and how do we think when we write a short st
 ory? What is the nature – and the difficulties – of the collaboration 
 between a screenwriter and a designer? Through practical examples and the 
 discussion of these questions\, participants can better understand the adv
 enture of conceiving and creating a comic.Speakers: Tassos Zafeiriadis\, Y
 iannis Palavos
 *Participation in all workshops is free. Instead of a fee
 \, you can donate stationery (pencils\, erasers\, sharpeners\, crayons\, d
 rawing blocks\, etc.)\, which will be donated to the children of the Assoc
 iation of Voluntary Offering and Support “Orizondas”.
LOCATION:Karnagio\, 8\, Πλατεία Γεωργίου Κατεχάκη\, 
 Kastelli\, Chania\, Municipality of Chania\, Chania Regional Unit\, Region
  of Crete\, 731 32\, Greece
DTSTART:20240929T100000Z
DTEND:20240929T110000Z
DTSTAMP:20240829T122412Z
ORGANIZER;CN=Chaniartoon - International Comic & Animation Festival:MAILTO:
 info@chaniartoonfest.gr
GEO:35.518247;24.02048
X-APPLE-STRUCTURED-LOCATION;VALUE=URI;X-ADDRESS=Karnagio\, 8\, Πλατεί
 α Γεωργίου Κατεχάκη\, Kastelli\, Chania\, Municipality of
  Chania\, Chania Regional Unit\, Region of Crete\, 731 32\, Greece;X-APPLE
 -RADIUS=72;X-TITLE=Theatre Mikis Theodorakis:35.518247;24.02048
END:VEVENT
END:VCALENDAR