BEGIN:VCALENDAR
VERSION:2.0
PRODID:Events Booking
BEGIN:VEVENT
UID:69e95c98ac135
SUMMARY:Horror Films
DESCRIPTION:A selection of horror short animation from all over the world. 
 The films are appropriate for 16+ (not for kids)
 Click details to see th
 e complete film list.
LOCATION:Char.Ploumidaki\, Κούμ Καπί\, Chania\, Municipality of Cha
 nia\, Chania Regional Unit\, Region of Crete\, 731 34\, Greece
DTSTART:20240915T180000Z
DTSTAMP:20240829T063822Z
ORGANIZER;CN=Chaniartoon - International Comic & Animation Festival:MAILTO:
 info@chaniartoonfest.gr
GEO:35.512238;24.025136
X-APPLE-STRUCTURED-LOCATION;VALUE=URI;X-ADDRESS=Char.Ploumidaki\, Κούμ 
 Καπί\, Chania\, Municipality of Chania\, Chania Regional Unit\, Region
  of Crete\, 731 34\, Greece;X-APPLE-RADIUS=72;X-TITLE=Chania Cine \"Garden
 \":35.512238;24.025136
END:VEVENT
END:VCALENDAR