BEGIN:VCALENDAR
VERSION:2.0
PRODID:Events Booking
BEGIN:VEVENT
UID:69e95d2d4f9f9
SUMMARY:Illustrating poetry in comic book form An exploration of the images
  behind the words\, by Eva Poulopoulou
DESCRIPTION:How do we transfer poetry into images? How do we make a short c
 omic based on the lyrics of a folk song\, a haiku\, or a contemporary work
 ? A workshop exploring different sources of inspiration\, where the poetic
  discourse is an occasion for the practice of the personal eye\, but also 
 a possible starting point for an autonomous creation.&nbsp\;
 *Participat
 ion in all workshops is free. Instead of a fee\, you can donate stationery
  (pencils\, erasers\, sharpeners\, crayons\, drawing blocks\, etc.)\, whic
 h will be donated to the children of the Association of Voluntary Offering
  and Support “Orizondas”.
LOCATION:Karnagio\, 8\, Πλατεία Γεωργίου Κατεχάκη\, 
 Kastelli\, Chania\, Municipality of Chania\, Chania Regional Unit\, Region
  of Crete\, 731 32\, Greece
DTSTART:20240922T150000Z
DTEND:20240922T170000Z
DTSTAMP:20240829T074737Z
ORGANIZER;CN=Chaniartoon - International Comic & Animation Festival:MAILTO:
 info@chaniartoonfest.gr
GEO:35.518247;24.02048
X-APPLE-STRUCTURED-LOCATION;VALUE=URI;X-ADDRESS=Karnagio\, 8\, Πλατεί
 α Γεωργίου Κατεχάκη\, Kastelli\, Chania\, Municipality of
  Chania\, Chania Regional Unit\, Region of Crete\, 731 32\, Greece;X-APPLE
 -RADIUS=72;X-TITLE=Theatre Mikis Theodorakis:35.518247;24.02048
END:VEVENT
END:VCALENDAR