BEGIN:VCALENDAR
VERSION:2.0
PRODID:Events Booking
BEGIN:VEVENT
UID:69e9fd9da4ebf
SUMMARY:Live Sketching with Dimitra Adamopoulou
DESCRIPTION:
 Η Δήμητρα Αδαμοπούλου έρχεται στ
 ο Comixadiko για μία live-sketching βραδιά το Σάββατ
 ο 20 Απριλίου στις 20.00!
 
 Μια ξεχωριστή βρ
 αδιά κατά την διάρκεια της οποίας η Δήμη
 τρα θα σχεδιάζει \"True stories\"\, παρέα με μπυρ
 ίτσες και μουσική.
 
 Στο Comixadiko θα βρείτε
  merch και comics της Δήμητρας Αδαμοπούλου.
 
 
 Είσοδος Ελεύθερη
 
LOCATION:Γεωργίου Ξέπαππα 15\, Νέα Χώρα\, Chania\, Mu
 nicipality of Chania\, Chania Regional Unit\, Region of Crete\, 731 30\, G
 reece
DTSTART:20240420T170000Z
DTSTAMP:20240204T141709Z
ORGANIZER;CN=Chaniartoon - International Comic & Animation Festival:MAILTO:
 info@chaniartoonfest.gr
GEO:35.51057;24.012889
X-APPLE-STRUCTURED-LOCATION;VALUE=URI;X-ADDRESS=Γεωργίου Ξέπαπ
 πα 15\, Νέα Χώρα\, Chania\, Municipality of Chania\, Chania Regio
 nal Unit\, Region of Crete\, 731 30\, Greece;X-APPLE-RADIUS=72;X-TITLE=Com
 ixadiko:35.51057;24.012889
END:VEVENT
END:VCALENDAR