BEGIN:VCALENDAR
VERSION:2.0
PRODID:Events Booking
BEGIN:VEVENT
UID:69eb45e9d7c0d
SUMMARY:Los Tre Live
DESCRIPTION:
DTSTART:20240927T183000Z
DTSTAMP:20240803T141333Z
ORGANIZER;CN=Chaniartoon - International Comic & Animation Festival:MAILTO:
 info@chaniartoonfest.gr
END:VEVENT
END:VCALENDAR