BEGIN:VCALENDAR
VERSION:2.0
PRODID:Events Booking
BEGIN:VEVENT
UID:69e9614bcfbae
SUMMARY:Manga: the past\, present and future of Japanese comics
DESCRIPTION:Today\, manga has taken the world by storm. From the internatio
 nal sales of comics\, they dominate to their recognizable aesthetic found 
 in clothing\, furniture\, gadgets and even other Arts beyond the Ninth\, t
 he influence of Japanese comics is undeniable. But what is manga anyway? H
 ow do they relate to the broader Japanese culture? What led to their creat
 ion and spread? What are the essential milestones in their history? And wh
 y do they have big eyes?Reporter: Myrto Tselentis
LOCATION:Karnagio\, 8\, Πλατεία Γεωργίου Κατεχάκη\, 
 Kastelli\, Chania\, Municipality of Chania\, Chania Regional Unit\, Region
  of Crete\, 731 32\, Greece
DTSTART:20240928T100000Z
DTEND:20240928T110000Z
DTSTAMP:20240829T142447Z
ORGANIZER;CN=Chaniartoon - International Comic & Animation Festival:MAILTO:
 info@chaniartoonfest.gr
GEO:35.518247;24.02048
X-APPLE-STRUCTURED-LOCATION;VALUE=URI;X-ADDRESS=Karnagio\, 8\, Πλατεί
 α Γεωργίου Κατεχάκη\, Kastelli\, Chania\, Municipality of
  Chania\, Chania Regional Unit\, Region of Crete\, 731 32\, Greece;X-APPLE
 -RADIUS=72;X-TITLE=Theatre Mikis Theodorakis:35.518247;24.02048
END:VEVENT
END:VCALENDAR