BEGIN:VCALENDAR
VERSION:2.0
PRODID:Events Booking
BEGIN:VEVENT
UID:69eb693e71bf9
SUMMARY:Mermaid\, the element of Water
DESCRIPTION:Presentation of the new comic by Abraham Kaua and Vangelis Mazi
 ris. It was a ritual of spring\, and the sea was asking for blood... Three
  young men\, who had not yet met a woman\, had to cross the forbidden cave
  with the laurels... If all three came out of the cave\, the fishing would
  be good that year... Paganism and Christianity insist on sacrifices with 
 a hopeful message... Two beings from different worlds discover their simil
 arities... Who took the first step into the abyss? What forms did the myst
 eries of another organization take? Paganism and Christianity are eating t
 heir gods...Biology is eating us! Speaker: Vangelis Matziris\, Filippos De
 gidis
LOCATION:Karnagio\, 8\, Πλατεία Γεωργίου Κατεχάκη\, 
 Kastelli\, Chania\, Municipality of Chania\, Chania Regional Unit\, Region
  of Crete\, 731 32\, Greece
DTSTART:20240929T120000Z
DTEND:20240929T130000Z
DTSTAMP:20240830T074703Z
ORGANIZER;CN=Chaniartoon - International Comic & Animation Festival:MAILTO:
 info@chaniartoonfest.gr
GEO:35.518247;24.02048
X-APPLE-STRUCTURED-LOCATION;VALUE=URI;X-ADDRESS=Karnagio\, 8\, Πλατεί
 α Γεωργίου Κατεχάκη\, Kastelli\, Chania\, Municipality of
  Chania\, Chania Regional Unit\, Region of Crete\, 731 32\, Greece;X-APPLE
 -RADIUS=72;X-TITLE=Theatre Mikis Theodorakis:35.518247;24.02048
END:VEVENT
END:VCALENDAR