BEGIN:VCALENDAR
VERSION:2.0
PRODID:Events Booking
BEGIN:VEVENT
UID:69e9604203c1e
SUMMARY:Music Short Films Animation
DESCRIPTION:1. The Waves\, Canada\, Julie Gauthier\, Eric St-Gelais(03:03)W
 ith « Les vagues» (The waves)\, we invite you on a trip to the beach wi
 th Atchoum and her friends. She’ll meet a troop of dancing crabs and sta
 rfish enthusiasts of synchronized swimming. All presented in paper cut out
  stop motion animation\, under a radiant sun\, in an atmosphere reminiscen
 t of a hot summer day!
 
 2. Psycho\, Greece\, Thodoris Sarafis\, (02:28
 )Based on Dario Fo's \"Steal a bit Less\"\, this animated music video is a
  political satyre and it means no offence or disrespect to the actual ment
 ally challenged people of the world.In an asylum for mentally challenged p
 eople\, the loonies are singing about all the new behaviors they are being
  taught to be able to be reintegrated into society.
 
 3. Pentastic(I\, 
 Sai)\, India\, Nilanjan Chowdhury\, (05:20)The music video is a part of Ra
 hul Sridhar’s concept album - \"I\, Sai\" which traverses the journey of
  a person with the question “Who am I?”. While reminiscing about his p
 ast\, he starts looking for absolute truths that would transcend all trans
 ient happiness and misery\, and eventually finds everything he needs in mu
 sic. The protagonist’s story is linearly narrated via 6 tracks set in di
 fferent genres catering to different emotions he experiences.
 “Pentast
 ic”\, the 3rd song in the album storyline\, is a quirky song split into 
 three parts\, signifying the three states - deep sleep\, dream\, and wakin
 g\, and how the protagonist is searching in all three states for something
  he has lost. By the end of the song\, he realizes that all three states a
 re in essence one\, which is highlighted visually and aurally by the main 
 commonality in the states\, which is the search itself. This is followed b
 y an intense inward journey in the rest of the songs in the album.
  
 
 
 4. ZÈN TAN\, France\, ETIENNE GUIGNARD\, (3:54)In a metaphorical world
 \, a man finds his inner child\, his joy and innoncence\, but also his gre
 atest fear : being separated from him again.
  
 
 5. Pilgrim\, Urugua
 y\, Alejo Schettini\, (3:29)A little pigeon looks at the sky and begins to
  fly towards its most important journey.
  
 
 6. Nomad\, Iran\, Islam
 ic Republic of \,Amir Vafaei (1:27)Dance animation
  
 
 7. Streetligh
 t People\, Australia\, Emily Pink Dwyer\, (2:25)Emily Pink is an animator 
 and illustrator based in Melbourne\, Australia\, with big ideas and a love
  of all things spooky or cartoon. Streetlight People is their first solo f
 ilm\, made as their thesis film for their Bachelor of Animation\, in colla
 boration with Sinner’s Heist\, the musicians behind the titular song.
 
  
 
 8.Blossoming in the mist\, Iran\, Islamic Republic of\, Soroush Di
 anati\, (4:03) 
  
 
 9.Happy Birthday\, Greece\, Naya Filaou\, (3:58
 )A lullaby gently guides us to a stage of theater\, where the tale of a pu
 ppet unfurls. Amidst life's pivotal moments\, she confronts and conquers d
 iverse trials. Life\, akin to a theater's grand stage\, lays bare our soul
 s to the world's gaze. Navigating past the shackles it imposes\, and the d
 aunting specter of time\, we venture forth into each ensuing chapter\, emb
 raced by all and everything we hold dear.
  
 
 10. King of Sea\, Fran
 ce\, Stéphane Berla\, (5:26)On the coast of the Finistère department\, a
  sailor bids farewell to his family. Soon he must go back to sea and this 
 time he will not return... Years later\, the boy who has become a sailor h
 imself must also sail away. In the depths of the sea\, a ghost from the pa
 st catches up with him...
  
 
 11. Help Yourself\, France\, Mayrton O
 uitusisa\, Lucas Ponzio\, Maé Almayrac\, Margaux Latapie\, Romane Dejardi
 n\, (4:46)Mat\, a fast-food waiter\, discovers by chance that he is a fict
 ional character\, a simple secondary character in an action series\, in wh
 ich Hari\, a flamboyant defender of Justice\, plays the main role. But Mat
 \, who can now see the future events of the script\, knows that she is bou
 nd to die. He will try to warn her\, to defy the odds of the script…
 
  
 
 12. Coloratura\, Canada\, Mario Contreras\, (2:25)Coloratura is a 
 cartoon based on the minimal style of the UPA animation\, mixing art\, ani
 mation and jazz to create a symphony as the main character\, Artie\, bumps
  into different musical instruments.
  
  
 13. Dawn\, Greece\, Valas
 ia Dodulu\, (7:21)\"Dawn\" is an animated music video created by Valasia D
 odulu\, for Manolis Christodoulou's new music album. It is about the need 
 to look for hope in the dark times of war. A child's tears and a paper boa
 t will travel until the dawn will come again.
  
 
 14. Abubilla\, Spa
 in\, Rafael Vidal Vidal Altabert\, Julián Gómez Caballero\, (2:44)Abubil
 la is a bird that lives happily in the Maravilla forest with all the anima
 ls. But one day the hand of man endangers his environment and he talks to 
 the moon so that together they can sow life into his world.
  
  
 15
 . Among the flowers\, Russian Federation\, Valeriia Sobolevski\, (2:44)The
  film tells the story of a fly who flies into a greenhouse and meets there
  a Venus flytrap
 16. Chronicity\, Bosnia and Herzegovina\,Aleta Rajic\, 
 (3:17)
 17. As long as your legs last\, Brazil\, Alisson Thiago do Nascim
 ento\, (1:49)\"As Long as Your Legs Last\" by Alisson Thiago do Nascimento
 \, is an animation in sequential format - frame by frame. Where it narrate
 s the daily life of the protagonist Alisson\, waking up\, drinking his cof
 fee and going skateboarding through city.The culture that surrounds the Sk
 ateboarding universe is an open field. Initially in its practice and for i
 ts use of the city's elements\, whether for its value as an immaterial obj
 ect\, whether in the relationship of individual and collective competition
 \, these enhance creativity and the identity process\, in different areas 
 and languages.The production of this animation is a reflection of my life\
 , in which\, there is already 15 years that I see\, consume\, practice and
  produce in the world of Skateboarding. As Long as Your Legs Last uses the
  fragile universe of art\, which consisted ofcreation of 1032 drawings for
  a sequential narrative\, of everyday life life\, presenting some maneuver
 s that took me years to learn and execute.In this animation\, Skateboard i
 s mine life and I will practice as far as my legs last.
  
 
 18. Ziza
 nizzz\, France\, Nicolas Bianco-Levrin\, (1:47)A sheet of music was left o
 n a composer's work desk. A music-loving fly comes to place its paw there.
 She twirls and begins to sow discord. At the other end\, a spider does not
  intend to miss such a great opportunity to feast.
LOCATION:Karnagio\, 8\, Πλατεία Γεωργίου Κατεχάκη\, 
 Kastelli\, Chania\, Municipality of Chania\, Chania Regional Unit\, Region
  of Crete\, 731 32\, Greece
DTSTART:20240921T190000Z
DTEND:20240921T200000Z
DTSTAMP:20240902T084506Z
ORGANIZER;CN=Chaniartoon - International Comic & Animation Festival:MAILTO:
 info@chaniartoonfest.gr
GEO:35.518247;24.02048
X-APPLE-STRUCTURED-LOCATION;VALUE=URI;X-ADDRESS=Karnagio\, 8\, Πλατεί
 α Γεωργίου Κατεχάκη\, Kastelli\, Chania\, Municipality of
  Chania\, Chania Regional Unit\, Region of Crete\, 731 32\, Greece;X-APPLE
 -RADIUS=72;X-TITLE=Theatre Mikis Theodorakis:35.518247;24.02048
END:VEVENT
END:VCALENDAR