BEGIN:VCALENDAR
VERSION:2.0
PRODID:Events Booking
BEGIN:VEVENT
UID:69eb2f4414255
SUMMARY:Networking of Young Artists: Polinikis Papoulias\, Elisavet Stavran
 ioudaki
DESCRIPTION:We invite the young artists of Chania to an open meeting to map
  the goals and needs of our city's artistic groups and individuals. At the
  same time\, we propose the creation of a support network that will provid
 e a platform for communication\, resource exploration\, and possible colla
 borations.
 *Participation in all workshops is free. Instead of a fee\, y
 ou can donate stationery (pencils\, erasers\, sharpeners\, crayons\, drawi
 ng blocks\, etc.)\, which will be donated to the children of the Associati
 on of Voluntary Offering and Support “Orizondas”.
LOCATION:Karnagio\, 8\, Πλατεία Γεωργίου Κατεχάκη\, 
 Kastelli\, Chania\, Municipality of Chania\, Chania Regional Unit\, Region
  of Crete\, 731 32\, Greece
DTSTART:20240924T150000Z
DTEND:20240924T170000Z
DTSTAMP:20240829T075933Z
ORGANIZER;CN=Chaniartoon - International Comic & Animation Festival:MAILTO:
 info@chaniartoonfest.gr
GEO:35.518247;24.02048
X-APPLE-STRUCTURED-LOCATION;VALUE=URI;X-ADDRESS=Karnagio\, 8\, Πλατεί
 α Γεωργίου Κατεχάκη\, Kastelli\, Chania\, Municipality of
  Chania\, Chania Regional Unit\, Region of Crete\, 731 32\, Greece;X-APPLE
 -RADIUS=72;X-TITLE=Theatre Mikis Theodorakis:35.518247;24.02048
END:VEVENT
END:VCALENDAR