BEGIN:VCALENDAR
VERSION:2.0
PRODID:Events Booking
BEGIN:VEVENT
UID:69eb35952ee93
SUMMARY:Nobody Laughs Here Anymore: How to make a surrealistic comic
DESCRIPTION:About a year ago\, Avram and Blessed decided to play the well-k
 nown surreal game \"Exquisite Corpse\"\, in which each partner adds to a c
 omposition in turn\, only being allowed to see the end of what the previou
 s one contributed. Just like Ping Pong. One question a day. One answer per
  day. A page a day. In this masterclass\, the dynamic duo Avramblessed wil
 l introduce the working methods and process that led to the creation of th
 eir surreal graphic novel Nobody Laughs Here Anymore. A behind-the-scenes 
 look at the old tradition of the surreal narrative style. Speakers: Dimitr
 is Avramopoulos\, Markos Evlogenimos
LOCATION:Karnagio\, 8\, Πλατεία Γεωργίου Κατεχάκη\, 
 Kastelli\, Chania\, Municipality of Chania\, Chania Regional Unit\, Region
  of Crete\, 731 32\, Greece
DTSTART:20240927T150000Z
DTEND:20240927T160000Z
DTSTAMP:20240830T073831Z
ORGANIZER;CN=Chaniartoon - International Comic & Animation Festival:MAILTO:
 info@chaniartoonfest.gr
GEO:35.518247;24.02048
X-APPLE-STRUCTURED-LOCATION;VALUE=URI;X-ADDRESS=Karnagio\, 8\, Πλατεί
 α Γεωργίου Κατεχάκη\, Kastelli\, Chania\, Municipality of
  Chania\, Chania Regional Unit\, Region of Crete\, 731 32\, Greece;X-APPLE
 -RADIUS=72;X-TITLE=Theatre Mikis Theodorakis:35.518247;24.02048
END:VEVENT
END:VCALENDAR