BEGIN:VCALENDAR
VERSION:2.0
PRODID:Events Booking
BEGIN:VEVENT
UID:69e94f23a9f89
SUMMARY:Presentation of the comic book \"The dead brother\" by Eva Poulopou
 lou
DESCRIPTION:The philologist Anna Lampardakis and the creator of the comic E
 va Poulopoulou talk about the original comic \"Tou nekro brodrou\"\, the m
 ost popular folk song and its composition in a comic. Narrated by actress 
 Marinella Vlahaki. The folk song Tou Nekrou Aderfou is one of the oldest n
 arrative songs of the Balkans with its origins lost in the depths of the c
 enturies. It was sung in versions with a single theme based on the common 
 roots of the peoples of the region\, defying physical borders and cultural
  differences. Timeless ideas such as the sanctity of the oath\, the power 
 of the lament and the curse\, perceptions of life in the outback\, but als
 o magical elements such as the resurrection and talking birds\, compose a 
 haunting\, fascinating tale. Enjoy it in a work that combines the richness
  of folk tradition and the singularity of folk song language\, with the co
 ntemporary\, direct and intimate visual language of comic books. (from the
  back cover of the book) Speakers: Eva Poulopoulou\, Anna Lampardaki Marin
 ella Vlachaki reads
LOCATION:Karnagio\, 8\, Πλατεία Γεωργίου Κατεχάκη\, 
 Kastelli\, Chania\, Municipality of Chania\, Chania Regional Unit\, Region
  of Crete\, 731 32\, Greece
DTSTART:20240923T180000Z
DTEND:20240923T190000Z
DTSTAMP:20240902T030453Z
ORGANIZER;CN=Chaniartoon - International Comic & Animation Festival:MAILTO:
 info@chaniartoonfest.gr
GEO:35.518247;24.02048
X-APPLE-STRUCTURED-LOCATION;VALUE=URI;X-ADDRESS=Karnagio\, 8\, Πλατεί
 α Γεωργίου Κατεχάκη\, Kastelli\, Chania\, Municipality of
  Chania\, Chania Regional Unit\, Region of Crete\, 731 32\, Greece;X-APPLE
 -RADIUS=72;X-TITLE=Theatre Mikis Theodorakis:35.518247;24.02048
END:VEVENT
END:VCALENDAR