BEGIN:VCALENDAR
VERSION:2.0
PRODID:Events Booking
BEGIN:VEVENT
UID:69eb68f7f21e9
SUMMARY:Recipe for comics... just for kids! - Nikolas Stefadouros
DESCRIPTION:In this workshop\, children will learn ways to make their own c
 omic\, with the purest virgin materials (i.e. pencil\, paper\, paints\, et
 c.) and will travel with their heroes in their stories...
 by Nikolas Ste
 fadouros
 &nbsp\;
 *Participation in all workshops is free. Instead of a
  fee\, you can donate stationery (pencils\, erasers\, sharpeners\, crayons
 \, drawing blocks\, etc.)\, which will be donated to the children of the A
 ssociation of Voluntary Offering and Support “Orizondas”.
LOCATION:Karnagio\, 8\, Πλατεία Γεωργίου Κατεχάκη\, 
 Kastelli\, Chania\, Municipality of Chania\, Chania Regional Unit\, Region
  of Crete\, 731 32\, Greece
DTSTART:20240928T080000Z
DTEND:20240928T090000Z
DTSTAMP:20230827T143634Z
ORGANIZER;CN=Chaniartoon - International Comic & Animation Festival:MAILTO:
 info@chaniartoonfest.gr
GEO:35.518247;24.02048
X-APPLE-STRUCTURED-LOCATION;VALUE=URI;X-ADDRESS=Karnagio\, 8\, Πλατεί
 α Γεωργίου Κατεχάκη\, Kastelli\, Chania\, Municipality of
  Chania\, Chania Regional Unit\, Region of Crete\, 731 32\, Greece;X-APPLE
 -RADIUS=72;X-TITLE=Theatre Mikis Theodorakis:35.518247;24.02048
END:VEVENT
END:VCALENDAR