BEGIN:VCALENDAR
VERSION:2.0
PRODID:Events Booking
BEGIN:VEVENT
UID:69e962056144e
SUMMARY:Sketch battle
DESCRIPTION:Thanasis Petropoulos presents a never-before-seen Sketch Battle
  game with Dimitra Adamopoulou\, Antonis Vavagiannis\, Nikos Kampasele and
  Stavros Kioutsioukis
LOCATION:Karnagio\, 8\, Πλατεία Γεωργίου Κατεχάκη\, 
 Kastelli\, Chania\, Municipality of Chania\, Chania Regional Unit\, Region
  of Crete\, 731 32\, Greece
DTSTART:20240927T173000Z
DTEND:20240927T183000Z
DTSTAMP:20240902T032525Z
ORGANIZER;CN=Chaniartoon - International Comic & Animation Festival:MAILTO:
 info@chaniartoonfest.gr
GEO:35.518273;24.020196
X-APPLE-STRUCTURED-LOCATION;VALUE=URI;X-ADDRESS=Karnagio\, 8\, Πλατεί
 α Γεωργίου Κατεχάκη\, Kastelli\, Chania\, Municipality of
  Chania\, Chania Regional Unit\, Region of Crete\, 731 32\, Greece;X-APPLE
 -RADIUS=72;X-TITLE=Katehaki Square:35.518273;24.020196
END:VEVENT
END:VCALENDAR