BEGIN:VCALENDAR
VERSION:2.0
PRODID:Events Booking
BEGIN:VEVENT
UID:69eb552a7d824
SUMMARY:Take your fear and throw it away! with Dímitra Valaváni\, Déspoi
 na Tziáki 
DESCRIPTION:
 
 Are you afraid to make a shield out of books\, a sword ou
 t of fairy tales\, make your fear a shuttle\, and throw it away? What is f
 ear? Fear is a human emotion caused by the awareness of a real or imagined
  danger or threat. It is a mechanism that protects us\, a normal body reac
 tion without thinking. But how can we help children express and face their
  fears? Books and fairy tales are a beautiful solution. Through these\, ch
 ildren find an outlet while at the same time allowing them to keep the cha
 nnel of communication open\, making them feel safe to share their feelings
  and anxieties with us. How exactly can this be done? Educators Dimitra Va
 lavani and Despina Tziaki\, members of the fairy tale dissemination and st
 orytelling group Paramythades en Plo\, coordinate a workshop for parents a
 nd propose ideas on how we can manage children's fears. The workshop will 
 take place at the Sporaki bookstore.
 &nbsp\;
 *Participation in all wor
 kshops is free. Instead of a fee\, you can donate stationery (pencils\, er
 asers\, sharpeners\, crayons\, drawing blocks\, etc.)\, which will be dona
 ted to the children of the Association of Voluntary Offering and Support 
 “Orizondas”.
 
 
LOCATION:Μπονιαλη Κτιστακη 11\, Chania\, Municipality of Ch
 ania\, Chania Regional Unit\, Region of Crete\, 731 34\, Greece
DTSTART:20240923T160000Z
DTEND:20240923T180000Z
DTSTAMP:20240829T075416Z
ORGANIZER;CN=Chaniartoon - International Comic & Animation Festival:MAILTO:
 info@chaniartoonfest.gr
GEO:35.511754;24.021896
X-APPLE-STRUCTURED-LOCATION;VALUE=URI;X-ADDRESS=Μπονιαλη Κτιστ
 ακη 11\, Chania\, Municipality of Chania\, Chania Regional Unit\, Regio
 n of Crete\, 731 34\, Greece;X-APPLE-RADIUS=72;X-TITLE=Βιβλιοπωλ
 είο \"Το Σποράκι\":35.511754;24.021896
END:VEVENT
END:VCALENDAR