BEGIN:VCALENDAR
VERSION:2.0
PRODID:Events Booking
BEGIN:VEVENT
UID:69e963739afef
SUMMARY:The Inside and the Outside - Confessions and introspections through
  the sketches of Gavriil Pagonis and Alexias Othonaios in the \"Kare Kare\
 " insert of the \"Efimerida ton Sydakton\"
DESCRIPTION:We make our deepest confessions to ourselves or to our psychoan
 alyst. Alexia Othonaio with the series \"X in P\" reveals short\, enjoyabl
 e comic-excerpts from the sessions of strangers X on the sofa of P and Gav
 riel Pagonis with his participation in the series \"The Dictionary of Cris
 is\" brings out the insides by recording with bitter humor the attempts at
  reconciliation with the self. The exhibition \"The Insides and the Outsid
 es\" curated by Louiza Karageorgiou and Yiannis Koukoulas presents their s
 elected works from the Kare Kare of the Editors' Journal and invites the p
 ublic to an introspection of liberating self-awareness and self-sarcasm.Sp
 eakers: Louiza Karageorgiou\, Yiannis Koukoulas and the artists Gavriel Pa
 gonis\, Alexia Othonaιοu.
LOCATION:Karnagio\, 8\, Πλατεία Γεωργίου Κατεχάκη\, 
 Kastelli\, Chania\, Municipality of Chania\, Chania Regional Unit\, Region
  of Crete\, 731 32\, Greece
DTSTART:20240929T100000Z
DTEND:20240927T110000Z
DTSTAMP:20240902T082216Z
ORGANIZER;CN=Chaniartoon - International Comic & Animation Festival:MAILTO:
 info@chaniartoonfest.gr
GEO:35.518247;24.02048
X-APPLE-STRUCTURED-LOCATION;VALUE=URI;X-ADDRESS=Karnagio\, 8\, Πλατεί
 α Γεωργίου Κατεχάκη\, Kastelli\, Chania\, Municipality of
  Chania\, Chania Regional Unit\, Region of Crete\, 731 32\, Greece;X-APPLE
 -RADIUS=72;X-TITLE=Theatre Mikis Theodorakis:35.518247;24.02048
END:VEVENT
END:VCALENDAR